BEGIN:VCALENDAR
VERSION:2.0
PRODID:-//Home - ECPv6.15.18//NONSGML v1.0//EN
CALSCALE:GREGORIAN
METHOD:PUBLISH
X-WR-CALNAME:Home
X-ORIGINAL-URL:https://backend.getoutin.co.za
X-WR-CALDESC:Events for Home
REFRESH-INTERVAL;VALUE=DURATION:PT1H
X-Robots-Tag:noindex
X-PUBLISHED-TTL:PT1H
BEGIN:VTIMEZONE
TZID:Africa/Abidjan
BEGIN:STANDARD
TZOFFSETFROM:+0000
TZOFFSETTO:+0000
TZNAME:GMT
DTSTART:20250101T000000
END:STANDARD
END:VTIMEZONE
BEGIN:VEVENT
DTSTART;TZID=Africa/Abidjan:20260404T100000
DTEND;TZID=Africa/Abidjan:20260404T113000
DTSTAMP:20260423T234408
CREATED:20260401T153641Z
LAST-MODIFIED:20260401T153641Z
UID:37659-1775296800-1775302200@backend.getoutin.co.za
SUMMARY:Soft Movements of Awakening
DESCRIPTION:Ukuzilanda is a 4-part series of re-membering using breath\, movement\, nature based practices and reflective wisdom-sharing. \nSoft Movements of Awakening is the first of these offerings. Rooted in ancient wisdom\, this is a space and time for women to come together in community\, connect with breath and body\, move in ways that feel good\, connect with themselves and with each other\, and to rest. \nEsethu is a certified 500-hour yoga teacher\, trauma-informed space holder\, and nature-based wholeness guide dedicated to making wellbeing accessible to all. Her work bridges movement and the wisdom of nature – inviting people to remember their innate connection with the Earth and with themselves. Through her offerings in community spaces and at wellness festivals\, Esethu creates inclusive environments rooted in safety\, authenticity\, and embodied awareness. She is gifted in holding space for ceremony and ritual\, weaving together ancient wisdom and contemporary practice to support transformation\, healing\, and belonging. \nWe’d love\, love looove to have you join us! Seats are limited to keep the gathering intimate.\nIf you have any questions\, please feel free to reach out: 061 018 8971.
URL:https://backend.getoutin.co.za/events/soft-movements-of-awakening/
LOCATION:The Center
CATEGORIES:Lifestyle / Wellness,Miscellaneous Cultural
ATTACH;FMTTYPE=image/png:https://backend.getoutin.co.za/wp-content/uploads/2025/11/event-image-153.png
END:VEVENT
END:VCALENDAR