BEGIN:VCALENDAR
VERSION:2.0
PRODID:-//Home - ECPv6.15.18//NONSGML v1.0//EN
CALSCALE:GREGORIAN
METHOD:PUBLISH
X-WR-CALNAME:Home
X-ORIGINAL-URL:https://backend.getoutin.co.za
X-WR-CALDESC:Events for Home
REFRESH-INTERVAL;VALUE=DURATION:PT1H
X-Robots-Tag:noindex
X-PUBLISHED-TTL:PT1H
BEGIN:VTIMEZONE
TZID:Europe/Helsinki
BEGIN:DAYLIGHT
TZOFFSETFROM:+0200
TZOFFSETTO:+0300
TZNAME:EEST
DTSTART:20250330T010000
END:DAYLIGHT
BEGIN:STANDARD
TZOFFSETFROM:+0300
TZOFFSETTO:+0200
TZNAME:EET
DTSTART:20251026T010000
END:STANDARD
BEGIN:DAYLIGHT
TZOFFSETFROM:+0200
TZOFFSETTO:+0300
TZNAME:EEST
DTSTART:20260329T010000
END:DAYLIGHT
BEGIN:STANDARD
TZOFFSETFROM:+0300
TZOFFSETTO:+0200
TZNAME:EET
DTSTART:20261025T010000
END:STANDARD
BEGIN:DAYLIGHT
TZOFFSETFROM:+0200
TZOFFSETTO:+0300
TZNAME:EEST
DTSTART:20270328T010000
END:DAYLIGHT
BEGIN:STANDARD
TZOFFSETFROM:+0300
TZOFFSETTO:+0200
TZNAME:EET
DTSTART:20271031T010000
END:STANDARD
END:VTIMEZONE
BEGIN:VEVENT
DTSTART;TZID=Europe/Helsinki:20260425T080000
DTEND;TZID=Europe/Helsinki:20260425T100000
DTSTAMP:20260421T022913
CREATED:20250530T104324Z
LAST-MODIFIED:20260118T161032Z
UID:14937-1777104000-1777111200@backend.getoutin.co.za
SUMMARY:Parkrun
DESCRIPTION:Every Saturday at 8am \nVarious locations across the peninsula. A free\, fun\, and friendly weekly 5k community event. Walk\, jog\, run\, volunteer or spectate – it’s up to you! \nIt’s FREE but register first \nThe link provided will guide you to a map with the various locations. Click on your nearest locaation. Click AGAIN on the location for the homepage of that location to come up. \nCurrent Parkruns around Cape Town : \nGreenpoint\nRondebosch common\nCentrury City \nHout Bay\nConstantia Greenbelt\nBridgeton\nMichtells Plain\nZandvlei\nFishhoek \nBellville\nDurbanville\nBig Bay\nMelkbosstrand \nRoute 44\nSomerset West
URL:https://backend.getoutin.co.za/events/parkrun-5/
LOCATION:The Whole City of Cape Town
CATEGORIES:Kids / Teenagers,Lifestyle / Wellness,Sport Events,Whole Family Fun
ATTACH;FMTTYPE=image/jpeg:https://backend.getoutin.co.za/wp-content/uploads/2025/05/Parkrun-4-scaled.jpg
END:VEVENT
BEGIN:VEVENT
DTSTART;TZID=Europe/Helsinki:20260502T080000
DTEND;TZID=Europe/Helsinki:20260502T100000
DTSTAMP:20260421T022913
CREATED:20250530T104324Z
LAST-MODIFIED:20260118T161051Z
UID:14935-1777708800-1777716000@backend.getoutin.co.za
SUMMARY:Parkrun
DESCRIPTION:Every Saturday at 8am \nVarious locations across the peninsula. A free\, fun\, and friendly weekly 5k community event. Walk\, jog\, run\, volunteer or spectate – it’s up to you! \nIt’s FREE but register first \nThe link provided will guide you to a map with the various locations. Click on your nearest locaation. Click AGAIN on the location for the homepage of that location to come up. \nCurrent Parkruns around Cape Town : \nGreenpoint\nRondebosch common\nCentrury City \nHout Bay\nConstantia Greenbelt\nBridgeton\nMichtells Plain\nZandvlei\nFishhoek \nBellville\nDurbanville\nBig Bay\nMelkbosstrand \nRoute 44\nSomerset West
URL:https://backend.getoutin.co.za/events/parkrun-4/
LOCATION:The Whole City of Cape Town
CATEGORIES:Kids / Teenagers,Lifestyle / Wellness,Sport Events,Whole Family Fun
ATTACH;FMTTYPE=image/jpeg:https://backend.getoutin.co.za/wp-content/uploads/2025/05/Parkrun-3-scaled.jpg
END:VEVENT
BEGIN:VEVENT
DTSTART;TZID=Europe/Helsinki:20260509T080000
DTEND;TZID=Europe/Helsinki:20260509T100000
DTSTAMP:20260421T022913
CREATED:20250530T104317Z
LAST-MODIFIED:20260118T161114Z
UID:14931-1778313600-1778320800@backend.getoutin.co.za
SUMMARY:Parkrun
DESCRIPTION:Every Saturday at 8am \nVarious locations across the peninsula. A free\, fun\, and friendly weekly 5k community event. Walk\, jog\, run\, volunteer or spectate – it’s up to you! \nIt’s FREE but register first \nThe link provided will guide you to a map with the various locations. Click on your nearest locaation. Click AGAIN on the location for the homepage of that location to come up. \nCurrent Parkruns around Cape Town : \nGreenpoint\nRondebosch common\nCentrury City \nHout Bay\nConstantia Greenbelt\nBridgeton\nMichtells Plain\nZandvlei\nFishhoek \nBellville\nDurbanville\nBig Bay\nMelkbosstrand \nRoute 44\nSomerset West
URL:https://backend.getoutin.co.za/events/parkrun-2/
LOCATION:The Whole City of Cape Town
CATEGORIES:Kids / Teenagers,Lifestyle / Wellness,Sport Events,Whole Family Fun
ATTACH;FMTTYPE=image/jpeg:https://backend.getoutin.co.za/wp-content/uploads/2025/05/Parkrun-1-scaled.jpg
END:VEVENT
BEGIN:VEVENT
DTSTART;TZID=Europe/Helsinki:20260516T080000
DTEND;TZID=Europe/Helsinki:20260516T100000
DTSTAMP:20260421T022913
CREATED:20250530T103226Z
LAST-MODIFIED:20260118T161134Z
UID:14927-1778918400-1778925600@backend.getoutin.co.za
SUMMARY:Parkrun
DESCRIPTION:Every Saturday at 8am \nVarious locations across the peninsula. A free\, fun\, and friendly weekly 5k community event. Walk\, jog\, run\, volunteer or spectate – it’s up to you! \nIt’s FREE but register first \nThe link provided will guide you to a map with the various locations. Click on your nearest locaation. Click AGAIN on the location for the homepage of that location to come up. \nCurrent Parkruns around Cape Town : \nGreenpoint\nRondebosch common\nCentrury City \nHout Bay\nConstantia Greenbelt\nBridgeton\nMichtells Plain\nZandvlei\nFishhoek \nBellville\nDurbanville\nBig Bay\nMelkbosstrand \nRoute 44\nSomerset West
URL:https://backend.getoutin.co.za/events/parkrun/
LOCATION:The Whole City of Cape Town
CATEGORIES:Kids / Teenagers,Lifestyle / Wellness,Sport Events,Whole Family Fun
ATTACH;FMTTYPE=image/jpeg:https://backend.getoutin.co.za/wp-content/uploads/2025/05/Parkrun-scaled.jpg
END:VEVENT
END:VCALENDAR