BEGIN:VCALENDAR
VERSION:2.0
PRODID:-//Home - ECPv6.15.18//NONSGML v1.0//EN
CALSCALE:GREGORIAN
METHOD:PUBLISH
X-ORIGINAL-URL:https://backend.getoutin.co.za
X-WR-CALDESC:Events for Home
REFRESH-INTERVAL;VALUE=DURATION:PT1H
X-Robots-Tag:noindex
X-PUBLISHED-TTL:PT1H
BEGIN:VTIMEZONE
TZID:Europe/Helsinki
BEGIN:DAYLIGHT
TZOFFSETFROM:+0200
TZOFFSETTO:+0300
TZNAME:EEST
DTSTART:20250330T010000
END:DAYLIGHT
BEGIN:STANDARD
TZOFFSETFROM:+0300
TZOFFSETTO:+0200
TZNAME:EET
DTSTART:20251026T010000
END:STANDARD
BEGIN:DAYLIGHT
TZOFFSETFROM:+0200
TZOFFSETTO:+0300
TZNAME:EEST
DTSTART:20260329T010000
END:DAYLIGHT
BEGIN:STANDARD
TZOFFSETFROM:+0300
TZOFFSETTO:+0200
TZNAME:EET
DTSTART:20261025T010000
END:STANDARD
BEGIN:DAYLIGHT
TZOFFSETFROM:+0200
TZOFFSETTO:+0300
TZNAME:EEST
DTSTART:20270328T010000
END:DAYLIGHT
BEGIN:STANDARD
TZOFFSETFROM:+0300
TZOFFSETTO:+0200
TZNAME:EET
DTSTART:20271031T010000
END:STANDARD
END:VTIMEZONE
BEGIN:VEVENT
DTSTART;TZID=Europe/Helsinki:20260424T180000
DTEND;TZID=Europe/Helsinki:20260424T235900
DTSTAMP:20260422T022320
CREATED:20251013T094420Z
LAST-MODIFIED:20260218T064033Z
UID:18842-1777053600-1777075140@backend.getoutin.co.za
SUMMARY:Sushi Social + DJ
DESCRIPTION:Elevate your Fridays 🥢🍹✨ \n🎶 DJs bringing in the weekend energy \n Sushi Social 💃🏻 Every Friday at the Café. Your new weekly affair of sushi\, cocktails and a vibe to get you in the mood 🪩 \n🍣 Indulge in a selection of Caprice signature sushi plates (R250 pp)\n🍸 Sip on cocktails from our exclusive menu\n🎶 DJs bringing in the weekend energy \n📍 Every Friday | 6–9PM \nTable bookings are essential. For bookings and enquiries email reservations@cafecaprice.co.za
URL:https://backend.getoutin.co.za/events/sushi-social-dj-17/
LOCATION:Café Caprice
CATEGORIES:Age Restriction 18+ / 21+,Party - Djs, Clubs, Live Music
ATTACH;FMTTYPE=image/jpeg:https://backend.getoutin.co.za/wp-content/uploads/2025/09/Caprice-Sushi-Social-generic-9-1-scaled.jpg
END:VEVENT
END:VCALENDAR