BEGIN:VCALENDAR
VERSION:2.0
PRODID:-//Home - ECPv6.15.18//NONSGML v1.0//EN
CALSCALE:GREGORIAN
METHOD:PUBLISH
X-ORIGINAL-URL:https://backend.getoutin.co.za
X-WR-CALDESC:Events for Home
REFRESH-INTERVAL;VALUE=DURATION:PT1H
X-Robots-Tag:noindex
X-PUBLISHED-TTL:PT1H
BEGIN:VTIMEZONE
TZID:Africa/Abidjan
BEGIN:STANDARD
TZOFFSETFROM:+0000
TZOFFSETTO:+0000
TZNAME:GMT
DTSTART:20250101T000000
END:STANDARD
END:VTIMEZONE
BEGIN:VEVENT
DTSTART;TZID=Africa/Abidjan:20260419T160000
DTEND;TZID=Africa/Abidjan:20260419T230000
DTSTAMP:20260421T194315
CREATED:20260415T053442Z
LAST-MODIFIED:20260415T053442Z
UID:38674-1776614400-1776639600@backend.getoutin.co.za
SUMMARY:Winehouse | 19 April 2026 | Cellar Collective
DESCRIPTION:Winehouse is an intimate event curated to indulge in good wine and house music paired with beautiful energy. What started as a laid-back DJ mix series in Tashinga’s lounge has grown into a lifestyle experience — blending music\, culture\, and curated aesthetics in unique spaces. \nExpect:\n– House Music\n– Wine Tasting (Ticket purchased separately)\n– A cozy\, stylish atmosphere designed for connection\n– Live-recorded Winehouse DJ sets for our YouTube series \nWinehouse on YouTube: https://youtube.com/playlist?list=PL9ZsD9JcCViQ9iQe6JoFtkUJBuG4JswH0&si=XdlhSFAA43qWO9g5 \nWhether you’re a wine lover\, a house head\, or both — this is your space to unwind\, vibe\, and share good moments. \nDISCLAIMER:\n1. Please note that photos and video footage will be taken throughout the event. These may be used for marketing and publicity on our social media platforms or in any third-party publication. By purchasing this ticket\, you consent to your image or likeness being used in any of our virtual campaigns.\n2. By purchasing a ticket\, the email address used will be added to a database that will be used to communicate any changes to the event and potentially any future event marketing. You will have the option to unsubscribe from the mailing list at any time.
URL:https://backend.getoutin.co.za/events/winehouse-19-april-2026-cellar-collective/
LOCATION:Cellar Collective Wine Bar
CATEGORIES:Age Restriction 18+ / 21+,Blues, Jazz, Soul etc. (Downtempo),Food / Drinks Events,Party - Djs, Clubs, Live Music
ATTACH;FMTTYPE=image/png:https://backend.getoutin.co.za/wp-content/uploads/2025/10/event-image-165.png
END:VEVENT
END:VCALENDAR