BEGIN:VCALENDAR
VERSION:2.0
PRODID:-//Home - ECPv6.15.18//NONSGML v1.0//EN
CALSCALE:GREGORIAN
METHOD:PUBLISH
X-ORIGINAL-URL:https://backend.getoutin.co.za
X-WR-CALDESC:Events for Home
REFRESH-INTERVAL;VALUE=DURATION:PT1H
X-Robots-Tag:noindex
X-PUBLISHED-TTL:PT1H
BEGIN:VTIMEZONE
TZID:Africa/Abidjan
BEGIN:STANDARD
TZOFFSETFROM:+0000
TZOFFSETTO:+0000
TZNAME:GMT
DTSTART:20250101T000000
END:STANDARD
END:VTIMEZONE
BEGIN:VEVENT
DTSTART;TZID=Africa/Abidjan:20260327T180000
DTEND;TZID=Africa/Abidjan:20260329T160000
DTSTAMP:20260421T174323
CREATED:20260224T065951Z
LAST-MODIFIED:20260224T065951Z
UID:34801-1774634400-1774800000@backend.getoutin.co.za
SUMMARY:Electric Dreams
DESCRIPTION:Electric Dreams: A Two-Night Intimate Trance Experience \nForget the faceless mega-festivals—Electric Dreams is all about intimacy\, connection\, and soundscapes that stay with you long after the last beat drops. With only 200 tickets available\, this gathering in the heart of the Tankwa Karoo promises an atmosphere where music and community truly become one. \nHosted by Rooidakkies\, Tankwa Karoo.
URL:https://backend.getoutin.co.za/events/electric-dreams/
LOCATION:Rooidakkies\, R355 (En Route to Tankwa Pad Stal)\, Cape Town\, South Africa
CATEGORIES:Age Restriction 18+ / 21+,Festivals,Party - Djs, Clubs, Live Music
ATTACH;FMTTYPE=image/jpeg:https://backend.getoutin.co.za/wp-content/uploads/2026/02/event-image-26.jpeg
END:VEVENT
END:VCALENDAR