BEGIN:VCALENDAR
VERSION:2.0
PRODID:-//Home - ECPv6.15.18//NONSGML v1.0//EN
CALSCALE:GREGORIAN
METHOD:PUBLISH
X-ORIGINAL-URL:https://backend.getoutin.co.za
X-WR-CALDESC:Events for Home
REFRESH-INTERVAL;VALUE=DURATION:PT1H
X-Robots-Tag:noindex
X-PUBLISHED-TTL:PT1H
BEGIN:VTIMEZONE
TZID:Africa/Abidjan
BEGIN:STANDARD
TZOFFSETFROM:+0000
TZOFFSETTO:+0000
TZNAME:GMT
DTSTART:20250101T000000
END:STANDARD
END:VTIMEZONE
BEGIN:VEVENT
DTSTART;TZID=Africa/Abidjan:20260326T220000
DTEND;TZID=Africa/Abidjan:20260326T235900
DTSTAMP:20260422T020641
CREATED:20260313T102647Z
LAST-MODIFIED:20260313T102647Z
UID:36231-1774562400-1774569540@backend.getoutin.co.za
SUMMARY:TRIBE Thursdays
DESCRIPTION:TRIBE Thursdays returns for their second instalment on the 26th of March in the Main Room with an all star local lineup featuring  \n@keilamanjaro\n@jamieslabber\n@its.prlli\n@elanschnider\n@robbie_dinnie\n@_audiojerk_\n@x_on_music 🚀 \nThis is one you don’t want to miss ‼️
URL:https://backend.getoutin.co.za/events/tribe-thursdays/
LOCATION:HALO Nightclub\, 71 LOOP STREET\, Cape Town\, South Africa
CATEGORIES:Age Restriction 18+ / 21+,Party - Djs, Clubs, Live Music
ATTACH;FMTTYPE=image/jpeg:https://backend.getoutin.co.za/wp-content/uploads/2024/12/Halo-Mar-26-scaled.jpg
END:VEVENT
END:VCALENDAR