BEGIN:VCALENDAR
VERSION:2.0
PRODID:-//Home - ECPv6.15.18//NONSGML v1.0//EN
CALSCALE:GREGORIAN
METHOD:PUBLISH
X-WR-CALNAME:Home
X-ORIGINAL-URL:https://backend.getoutin.co.za
X-WR-CALDESC:Events for Home
REFRESH-INTERVAL;VALUE=DURATION:PT1H
X-Robots-Tag:noindex
X-PUBLISHED-TTL:PT1H
BEGIN:VTIMEZONE
TZID:Africa/Abidjan
BEGIN:STANDARD
TZOFFSETFROM:+0000
TZOFFSETTO:+0000
TZNAME:GMT
DTSTART:20250101T000000
END:STANDARD
END:VTIMEZONE
BEGIN:VEVENT
DTSTART;TZID=Africa/Abidjan:20260416T220000
DTEND;TZID=Africa/Abidjan:20260417T040000
DTSTAMP:20260422T170620
CREATED:20260403T133144Z
LAST-MODIFIED:20260403T133144Z
UID:37852-1776376800-1776398400@backend.getoutin.co.za
SUMMARY:Club Night
DESCRIPTION:Line Up : \nThamiache \nKix \n——————– \nUnderground\n∙\nTechno\n∙\nHouse \n—————————– \nMødular. is a boutique nightclub providing a forward-thinking house and techno experience in cape town\, south africa. Established in february 2017 in the shell of a former basement disco club\, mødular. has set out to create a safe space for freedom of sonic expression\, music experimentation and boundary-pushing. The club has a well-enforced no photos policy which was the first of its kind in the city and helps to ensure the focus of the events are always on the music and dance. Over the past 7 years\, the space had grown and developed into a three-room venue providing an array of dance music\, open 4 days per week. Through this effort\, the club has built a strong reputation with artists and dancers alike in south africa and abroad. \nPrevious artists include: dvs1\, dasha rush\, alan oldham\, par grindvik\, deniro. tripeo\, spfdj\, evigt morker\, dimi angelis\, vincent neumann\, antigone\, ogazon\, iron curtis\, talismann\, rebekah\, cecilia tosh\, rene wise and many more
URL:https://backend.getoutin.co.za/events/club-night-4/
LOCATION:Modular
CATEGORIES:Age Restriction 18+ / 21+,Party - Djs, Clubs, Live Music
ATTACH;FMTTYPE=image/jpeg:https://backend.getoutin.co.za/wp-content/uploads/2024/12/Modular-Apr-16-scaled.jpg
END:VEVENT
BEGIN:VEVENT
DTSTART;TZID=Africa/Abidjan:20260417T220000
DTEND;TZID=Africa/Abidjan:20260418T040000
DTSTAMP:20260422T170620
CREATED:20260403T135057Z
LAST-MODIFIED:20260403T135057Z
UID:37858-1776463200-1776484800@backend.getoutin.co.za
SUMMARY:Club Night x Waxmode Vinyl
DESCRIPTION:Line Up : \nClaudia Lovisa \nFunky G \nAdy Fleming \nUsername 666. 021 \n——————– \nUnderground\n∙\nTechno\n∙\nHouse \n—————————– \nMødular. is a boutique nightclub providing a forward-thinking house and techno experience in cape town\, south africa. Established in february 2017 in the shell of a former basement disco club\, mødular. has set out to create a safe space for freedom of sonic expression\, music experimentation and boundary-pushing. The club has a well-enforced no photos policy which was the first of its kind in the city and helps to ensure the focus of the events are always on the music and dance. Over the past 7 years\, the space had grown and developed into a three-room venue providing an array of dance music\, open 4 days per week. Through this effort\, the club has built a strong reputation with artists and dancers alike in south africa and abroad. \nPrevious artists include: dvs1\, dasha rush\, alan oldham\, par grindvik\, deniro. tripeo\, spfdj\, evigt morker\, dimi angelis\, vincent neumann\, antigone\, ogazon\, iron curtis\, talismann\, rebekah\, cecilia tosh\, rene wise and many more
URL:https://backend.getoutin.co.za/events/club-night-x-waxmode-vinyl/
LOCATION:Modular
CATEGORIES:Age Restriction 18+ / 21+,Party - Djs, Clubs, Live Music
ATTACH;FMTTYPE=image/jpeg:https://backend.getoutin.co.za/wp-content/uploads/2024/12/Modular-Apr-17-scaled.jpg
END:VEVENT
END:VCALENDAR