BEGIN:VCALENDAR
VERSION:2.0
PRODID:-//Home - ECPv6.15.18//NONSGML v1.0//EN
CALSCALE:GREGORIAN
METHOD:PUBLISH
X-ORIGINAL-URL:https://backend.getoutin.co.za
X-WR-CALDESC:Events for Home
REFRESH-INTERVAL;VALUE=DURATION:PT1H
X-Robots-Tag:noindex
X-PUBLISHED-TTL:PT1H
BEGIN:VTIMEZONE
TZID:Africa/Abidjan
BEGIN:STANDARD
TZOFFSETFROM:+0000
TZOFFSETTO:+0000
TZNAME:GMT
DTSTART:20250101T000000
END:STANDARD
END:VTIMEZONE
BEGIN:VEVENT
DTSTART;TZID=Africa/Abidjan:20260503T140000
DTEND;TZID=Africa/Abidjan:20260503T220000
DTSTAMP:20260422T011656
CREATED:20260416T224211Z
LAST-MODIFIED:20260416T224337Z
UID:38798-1777816800-1777845600@backend.getoutin.co.za
SUMMARY:Sunsoaked Sundays - The Day Ones Edition
DESCRIPTION:Elevate Your Sunday at Biblio | Sunsoaked Sundays: The Day One Edition\nLuxury meets the underground. \nJoin us for Sunsoaked Sundays – The Day One Edition by FAWA\, where we redefine the Sunday experience. We’re taking over the stunning Biblio at 50 Hout Street for a day of premium selections\, sophisticated aesthetics\, and unmatched vibes. \nWhether you’re there for the precision of broken beats\, jazz\, deep house or the warmth of soulful rhythms\, our curated lineup is designed to deliver a high-altitude sonic journey:\n– Trev The Japanese\n– MightyKay Gee\n– Woli-Nativ\n– Mister X\n– FAWA \nThis is an invitation to those who appreciate the finer side of the scene. Strictly good energy. \nEvent Details:\nDate: Sunday\, May 3rd | 2026\nVenue: Biblio\, 50 Hout Street\nTickets: R200\nSEE YOU ON THE DANCEFLOOR
URL:https://backend.getoutin.co.za/events/sunsoaked-sundays-the-day-ones-edition/
LOCATION:Biblio\, 50 Hout St\, Cape Town City Centre\, Cape Town\, 8000\, Cape Town\, South Africa
CATEGORIES:Age Restriction 18+ / 21+,Blues, Jazz, Soul etc. (Downtempo),Party - Djs, Clubs, Live Music
ATTACH;FMTTYPE=image/png:https://backend.getoutin.co.za/wp-content/uploads/2025/04/event-image-7.png
END:VEVENT
BEGIN:VEVENT
DTSTART;TZID=Africa/Abidjan:20260503T140000
DTEND;TZID=Africa/Abidjan:20260503T220000
DTSTAMP:20260422T011656
CREATED:20260419T102149Z
LAST-MODIFIED:20260419T113711Z
UID:38860-1777816800-1777845600@backend.getoutin.co.za
SUMMARY:Sunsoaked Sundays - The Day Ones Edition
DESCRIPTION:Elevate Your Sunday at Biblio | Sunsoaked Sundays: The Day One Edition \nLuxury meets the underground. \nJoin us for Sunsoaked Sundays – The Day One Edition by FAWA\, where we redefine the Sunday experience. We’re taking over the stunning Biblio at 50 Hout Street for a day of premium selections\, sophisticated aesthetics\, and unmatched vibes. \nWhether you’re there for the precision of broken beats\, jazz\, deep house or the warmth of soulful rhythms\, our curated lineup is designed to deliver a high-altitude sonic journey: \nTrev The Japanese\nMightyKay Gee\nWoli-Nativ\nMister X\nFAWA \nThis is an invitation to those who appreciate the finer side of the scene. Strictly good energy. \nEvent Details:\nDate: Sunday\, May 3rd | 2026\nVenue: Biblio\, 50 Hout Street\nTickets: R200\nSEE YOU ON THE DANCEFLOOR
URL:https://backend.getoutin.co.za/events/sunsoaked-sundays-the-day-ones-edition-2/
LOCATION:Biblio\, 50 Hout St\, Cape Town City Centre\, Cape Town\, 8000\, Cape Town\, South Africa
CATEGORIES:Age Restriction 18+ / 21+,Blues, Jazz, Soul etc. (Downtempo),Party - Djs, Clubs, Live Music
ATTACH;FMTTYPE=image/png:https://backend.getoutin.co.za/wp-content/uploads/2025/04/event-image-8.png
END:VEVENT
END:VCALENDAR