BEGIN:VCALENDAR
VERSION:2.0
PRODID:-//Home - ECPv6.15.18//NONSGML v1.0//EN
CALSCALE:GREGORIAN
METHOD:PUBLISH
X-ORIGINAL-URL:https://backend.getoutin.co.za
X-WR-CALDESC:Events for Home
REFRESH-INTERVAL;VALUE=DURATION:PT1H
X-Robots-Tag:noindex
X-PUBLISHED-TTL:PT1H
BEGIN:VTIMEZONE
TZID:Africa/Abidjan
BEGIN:STANDARD
TZOFFSETFROM:+0000
TZOFFSETTO:+0000
TZNAME:GMT
DTSTART:20250101T000000
END:STANDARD
END:VTIMEZONE
BEGIN:VEVENT
DTSTART;TZID=Africa/Abidjan:20260405T130000
DTEND;TZID=Africa/Abidjan:20260405T210000
DTSTAMP:20260422T063250
CREATED:20260331T092810Z
LAST-MODIFIED:20260331T092810Z
UID:37478-1775394000-1775422800@backend.getoutin.co.za
SUMMARY:See You Next Sunday
DESCRIPTION:See You Next Sunday is your reset button. \nA daytime escape filled with good music\, great food\, and cocktails made to be enjoyed slowly. The kind of Sunday where the vibes are easy\, the energy is right\, and the only plan is to be present. \nPull up\, stay awhile\, and let the good vibes carry you through the day.
URL:https://backend.getoutin.co.za/events/see-you-next-sunday/
LOCATION:Si Cantina Sociale
CATEGORIES:Lifestyle / Wellness,Party - Djs, Clubs, Live Music,Whole Family Fun
ATTACH;FMTTYPE=image/png:https://backend.getoutin.co.za/wp-content/uploads/2025/10/event-image-161.png
END:VEVENT
END:VCALENDAR