BEGIN:VCALENDAR
VERSION:2.0
PRODID:-//Home - ECPv6.15.18//NONSGML v1.0//EN
CALSCALE:GREGORIAN
METHOD:PUBLISH
X-WR-CALNAME:Home
X-ORIGINAL-URL:https://backend.getoutin.co.za
X-WR-CALDESC:Events for Home
REFRESH-INTERVAL;VALUE=DURATION:PT1H
X-Robots-Tag:noindex
X-PUBLISHED-TTL:PT1H
BEGIN:VTIMEZONE
TZID:Africa/Abidjan
BEGIN:STANDARD
TZOFFSETFROM:+0000
TZOFFSETTO:+0000
TZNAME:GMT
DTSTART:20250101T000000
END:STANDARD
END:VTIMEZONE
BEGIN:VEVENT
DTSTART;TZID=Africa/Abidjan:20260429T200000
DTEND;TZID=Africa/Abidjan:20260501T235900
DTSTAMP:20260424T193817
CREATED:20260419T155456Z
LAST-MODIFIED:20260419T155456Z
UID:38951-1777492800-1777679940@backend.getoutin.co.za
SUMMARY:Gat
DESCRIPTION:AKTEURS | ACTORS Ilse Samuels & Miché van Wyk\nDANSERS | DANCERS Faroll Coetzee\, Georgia Julies\, Manon-Lee Saal\, Druwayne Strauss & Keeanu Samuels\nTEKS | SCRIPT Esmé Marthinus & Miché van Wyk\nMUSIEK | MUSIC Arnold Klassen\nREGIE & CHOREOGRAFIE | DIRECTOR & CHOREOGRAPHER Byron Klassen\nPRODUKSIEBESTUUR | PRODUCTION MANAGEMENT Oscar Langdown\nVERVAARDIGER | PRODUCER Garage Dance Ensemble \nWoordtrofee-wenner: Beste dansgedrewe produksie by die Toyota Stellenbosch Woordfees\nOp ’n verweerde bakkie vertrek die ensemble op ’n emosionele reis deur beweging en teks wat die siel van ’n gemeenskap wat veg om te oorleef\, ontbloot. Met treffende innovasie weef die groep ’n ritueel van klank\, beweging\, aarde en water wat die siklusse van skepping\, vernietiging\, geboorte en dood naspoor. Hierdie aangrypende opvoering eer die stories wat in die land vasgelê is en bied ’n diep resonerende besinning oor herinnering\, veerkrag en gedeelde identiteit. \nWoordtrofee winner: Best dance-driven production at Toyota Stellenbosch Woordfees\nTravelling on a battered bakkie\, the cast embarks on an emotional journey through movement and text\, revealing the soul of a community fighting to survive. With striking innovation\, the ensemble weaves a ritual of sound\, motion\, earth and water that traces cycles of creation\, destruction\, birth and death. This evocative performance honours the stories held by the land and offers a deeply resonant reflection on memory\, resilience and shared identity. \nDuration: 50min\nAge Restriction: All Ages\nLanguage: Afrikaans
URL:https://backend.getoutin.co.za/events/gat/
LOCATION:Castle of Good Hope
CATEGORIES:Kids / Teenagers,Theatre / Dancing / Performance,Whole Family Fun
ATTACH;FMTTYPE=image/jpeg:https://backend.getoutin.co.za/wp-content/uploads/2024/12/event-image-155-scaled.jpeg
END:VEVENT
END:VCALENDAR