BEGIN:VCALENDAR
VERSION:2.0
PRODID:-//Home - ECPv6.15.18//NONSGML v1.0//EN
CALSCALE:GREGORIAN
METHOD:PUBLISH
X-WR-CALNAME:Home
X-ORIGINAL-URL:https://backend.getoutin.co.za
X-WR-CALDESC:Events for Home
REFRESH-INTERVAL;VALUE=DURATION:PT1H
X-Robots-Tag:noindex
X-PUBLISHED-TTL:PT1H
BEGIN:VTIMEZONE
TZID:Africa/Abidjan
BEGIN:STANDARD
TZOFFSETFROM:+0000
TZOFFSETTO:+0000
TZNAME:GMT
DTSTART:20250101T000000
END:STANDARD
END:VTIMEZONE
BEGIN:VEVENT
DTSTART;TZID=Africa/Abidjan:20260404T160000
DTEND;TZID=Africa/Abidjan:20260405T010000
DTSTAMP:20260422T205830
CREATED:20260331T092748Z
LAST-MODIFIED:20260331T092748Z
UID:37482-1775318400-1775350800@backend.getoutin.co.za
SUMMARY:St Tropez
DESCRIPTION:ST TROPEZ — THE ULTIMATE DAYTIME LUXURY EXPERIENCE \nSt Tropez is a premium daytime lifestyle event set against the breathtaking backdrop of Cabo Beach\, delivering a seamless fusion of luxury\, music\, fashion\, and culture. \nRenowned for curating elite musical experiences\, St Tropez has previously hosted industry heavyweights such as DBN Gogo\, DJ Maphorisa\, Uncle Waflles\, Kelvin Momo\, Dlala Thukzin\, Oscar Mbo\, Njelic\, DJ Stokie\, and Sam Deep — cementing its reputation as a trusted platform for world-class sound. \nNow\, we’re gearing up for another unforgettable chapter with Elaine\, Nasty C\, K.O\, Felo Le Tee\, Funky Qla and Stixx headlining the next installment and we’re not even done yet! \nJoin us for a day that feels like a dream. Welcome to St. Tropez—where the sun never sets on good vibes.
URL:https://backend.getoutin.co.za/events/st-tropez/
LOCATION:CABO Beach (Club)
CATEGORIES:Age Restriction 18+ / 21+,Amapiano, Hip Hop, Reggae, Afro etc. (Uptempo),Party - Djs, Clubs, Live Music
ATTACH;FMTTYPE=image/jpeg:https://backend.getoutin.co.za/wp-content/uploads/2024/11/event-image-82.jpeg
END:VEVENT
END:VCALENDAR