BEGIN:VCALENDAR
VERSION:2.0
PRODID:-//Home - ECPv6.15.18//NONSGML v1.0//EN
CALSCALE:GREGORIAN
METHOD:PUBLISH
X-ORIGINAL-URL:https://backend.getoutin.co.za
X-WR-CALDESC:Events for Home
REFRESH-INTERVAL;VALUE=DURATION:PT1H
X-Robots-Tag:noindex
X-PUBLISHED-TTL:PT1H
BEGIN:VTIMEZONE
TZID:Africa/Abidjan
BEGIN:STANDARD
TZOFFSETFROM:+0000
TZOFFSETTO:+0000
TZNAME:GMT
DTSTART:20250101T000000
END:STANDARD
END:VTIMEZONE
BEGIN:VEVENT
DTSTART;TZID=Africa/Abidjan:20260404T200000
DTEND;TZID=Africa/Abidjan:20260405T040000
DTSTAMP:20260421T200648
CREATED:20260312T103950Z
LAST-MODIFIED:20260312T103950Z
UID:35589-1775332800-1775361600@backend.getoutin.co.za
SUMMARY:WE LOVE R&B CPT - CASA AMOR EDITION
DESCRIPTION:We Love R&B lands in Cape Town with the Casa Amor edition — the House of Love. This night is about smooth vibes and timeless R&B\, where every track sets the tone and the crowd moves effortlessly. \nExpect a curated space\, a stylish crowd\, and an atmosphere that flows all night 🌸 \nR&B the way Cape Town does it — intimate\, polished\, and unforgettable 🍷
URL:https://backend.getoutin.co.za/events/we-love-rb-cpt-casa-amor-edition/
LOCATION:Destiny
CATEGORIES:Age Restriction 18+ / 21+,Amapiano, Hip Hop, Reggae, Afro etc. (Uptempo),Blues, Jazz, Soul etc. (Downtempo),Party - Djs, Clubs, Live Music
ATTACH;FMTTYPE=image/jpeg:https://backend.getoutin.co.za/wp-content/uploads/2025/01/event-image-19-scaled.jpeg
END:VEVENT
END:VCALENDAR