BEGIN:VCALENDAR
VERSION:2.0
PRODID:-//Home - ECPv6.15.18//NONSGML v1.0//EN
CALSCALE:GREGORIAN
METHOD:PUBLISH
X-ORIGINAL-URL:https://backend.getoutin.co.za
X-WR-CALDESC:Events for Home
REFRESH-INTERVAL;VALUE=DURATION:PT1H
X-Robots-Tag:noindex
X-PUBLISHED-TTL:PT1H
BEGIN:VTIMEZONE
TZID:Europe/Helsinki
BEGIN:DAYLIGHT
TZOFFSETFROM:+0200
TZOFFSETTO:+0300
TZNAME:EEST
DTSTART:20250330T010000
END:DAYLIGHT
BEGIN:STANDARD
TZOFFSETFROM:+0300
TZOFFSETTO:+0200
TZNAME:EET
DTSTART:20251026T010000
END:STANDARD
BEGIN:DAYLIGHT
TZOFFSETFROM:+0200
TZOFFSETTO:+0300
TZNAME:EEST
DTSTART:20260329T010000
END:DAYLIGHT
BEGIN:STANDARD
TZOFFSETFROM:+0300
TZOFFSETTO:+0200
TZNAME:EET
DTSTART:20261025T010000
END:STANDARD
BEGIN:DAYLIGHT
TZOFFSETFROM:+0200
TZOFFSETTO:+0300
TZNAME:EEST
DTSTART:20270328T010000
END:DAYLIGHT
BEGIN:STANDARD
TZOFFSETFROM:+0300
TZOFFSETTO:+0200
TZNAME:EET
DTSTART:20271031T010000
END:STANDARD
END:VTIMEZONE
BEGIN:VEVENT
DTSTART;TZID=Europe/Helsinki:20260307T220000
DTEND;TZID=Europe/Helsinki:20260307T235900
DTSTAMP:20260421T212657
CREATED:20250821T143310Z
LAST-MODIFIED:20260127T193448Z
UID:18174-1772920800-1772927940@backend.getoutin.co.za
SUMMARY:Club 101 | Sat. | Back to Basics
DESCRIPTION:Sat. | Back to Basics\n———————-\nBack to Basics\nLate\nNo U23\nNo photos \n———————-
URL:https://backend.getoutin.co.za/events/sat-b-t-basics/
LOCATION:Club 101
CATEGORIES:Age Restriction 18+ / 21+,Party - Djs, Clubs, Live Music
ATTACH;FMTTYPE=image/jpeg:https://backend.getoutin.co.za/wp-content/uploads/2025/08/Club-101-August-30.jpg
END:VEVENT
BEGIN:VEVENT
DTSTART;TZID=Europe/Helsinki:20260321T220000
DTEND;TZID=Europe/Helsinki:20260321T235900
DTSTAMP:20260421T212657
CREATED:20250912T143202Z
LAST-MODIFIED:20260127T193652Z
UID:18188-1774130400-1774137540@backend.getoutin.co.za
SUMMARY:Club 101 | Sat. | Back to Basics
DESCRIPTION:Sat. | Back to Basics \n———————- \nBack to Basics\nLate\nNo U23\nNo photos \nLineup will be updated once posted.\n———————-
URL:https://backend.getoutin.co.za/events/sat-b-t-basics-8/
LOCATION:Club 101
CATEGORIES:Age Restriction 18+ / 21+,Party - Djs, Clubs, Live Music
ATTACH;FMTTYPE=image/jpeg:https://backend.getoutin.co.za/wp-content/uploads/2025/08/Club-101-generic-8.jpg
END:VEVENT
BEGIN:VEVENT
DTSTART;TZID=Europe/Helsinki:20260328T220000
DTEND;TZID=Europe/Helsinki:20260328T235900
DTSTAMP:20260421T212657
CREATED:20251013T094601Z
LAST-MODIFIED:20260127T193709Z
UID:18190-1774735200-1774742340@backend.getoutin.co.za
SUMMARY:Club 101 | Sat. | Back to Basics
DESCRIPTION:Sat. | Back to Basics\n———————-\nBack to Basics\nLate\nNo U23\nNo photos\nLineup will be updated once posted.\n———————-
URL:https://backend.getoutin.co.za/events/sat-b-t-basics-9/
LOCATION:Club 101
CATEGORIES:Age Restriction 18+ / 21+,Party - Djs, Clubs, Live Music
ATTACH;FMTTYPE=image/jpeg:https://backend.getoutin.co.za/wp-content/uploads/2025/10/101-Oct-24-Sat.jpg
END:VEVENT
END:VCALENDAR