BEGIN:VCALENDAR
VERSION:2.0
PRODID:-//Home - ECPv6.15.18//NONSGML v1.0//EN
CALSCALE:GREGORIAN
METHOD:PUBLISH
X-ORIGINAL-URL:https://backend.getoutin.co.za
X-WR-CALDESC:Events for Home
REFRESH-INTERVAL;VALUE=DURATION:PT1H
X-Robots-Tag:noindex
X-PUBLISHED-TTL:PT1H
BEGIN:VTIMEZONE
TZID:Africa/Abidjan
BEGIN:STANDARD
TZOFFSETFROM:+0000
TZOFFSETTO:+0000
TZNAME:GMT
DTSTART:20250101T000000
END:STANDARD
END:VTIMEZONE
BEGIN:VEVENT
DTSTART;TZID=Africa/Abidjan:20260426T130000
DTEND;TZID=Africa/Abidjan:20260426T170000
DTSTAMP:20260421T075328
CREATED:20260420T220340Z
LAST-MODIFIED:20260420T220340Z
UID:39010-1777208400-1777222800@backend.getoutin.co.za
SUMMARY:Heart Happenings Community Celebration
DESCRIPTION:Come and move your body\, free your voice and connect to your heart at our community celebration. \nDate: 26th April 2026\nVenue: The Center in Noordhoek\nTime: 13:00-17:00\nPrice: R100\nWhat’s Included: Guatemalan Cacao\, Sacred Dance\, Heart Song & Fire Circle \n*** The Line-Up ***\n13:00 – Doors Open\n13:30 – Opening Cacao Ceremony\n13:45 – Sacred Dance DJ Set\n15:15 – Free Flow\n15:30 – Heart Song & Fire Circle\n17:00 – Closing \nMore Info:\nSacred Dance: Is a powerful healing modality that takes you on a journey into your heart\, guided by cosmic sounds and healing frequencies in these high vibrational live DJ sets. The dance starts at slower tempo as we drop into our bodies and builds up to a peak before the mix comes back down to more meditative melodies. \nHeart Song & Fire Circles: We gather around the fire\, with the medicine of cacao\, to co-create a musical vibe and jam session. We’ll open our voices by learning simple heart songs from the Amazon to the Himalayas. Feel free to bring your instruments and send through lyrics of any songs you might want to share in the circle. It’s a wonderful opportunity to push through any fears one might have involving sharing their voice and musical talents in a safe\, supportive and loving container. \nCheck out our website (www.hearthappenings.com) for further information or contact 071 583 9005. We hope to have you with us for this sacred occasion.
URL:https://backend.getoutin.co.za/events/heart-happenings-community-celebration/
LOCATION:The Center
CATEGORIES:Lifestyle / Wellness,Whole Family Fun
ATTACH;FMTTYPE=image/png:https://backend.getoutin.co.za/wp-content/uploads/2025/11/event-image-162.png
END:VEVENT
END:VCALENDAR