BEGIN:VCALENDAR
VERSION:2.0
PRODID:-//Home - ECPv6.15.18//NONSGML v1.0//EN
CALSCALE:GREGORIAN
METHOD:PUBLISH
X-WR-CALNAME:Home
X-ORIGINAL-URL:https://backend.getoutin.co.za
X-WR-CALDESC:Events for Home
REFRESH-INTERVAL;VALUE=DURATION:PT1H
X-Robots-Tag:noindex
X-PUBLISHED-TTL:PT1H
BEGIN:VTIMEZONE
TZID:Europe/Helsinki
BEGIN:DAYLIGHT
TZOFFSETFROM:+0200
TZOFFSETTO:+0300
TZNAME:EEST
DTSTART:20250330T010000
END:DAYLIGHT
BEGIN:STANDARD
TZOFFSETFROM:+0300
TZOFFSETTO:+0200
TZNAME:EET
DTSTART:20251026T010000
END:STANDARD
BEGIN:DAYLIGHT
TZOFFSETFROM:+0200
TZOFFSETTO:+0300
TZNAME:EEST
DTSTART:20260329T010000
END:DAYLIGHT
BEGIN:STANDARD
TZOFFSETFROM:+0300
TZOFFSETTO:+0200
TZNAME:EET
DTSTART:20261025T010000
END:STANDARD
BEGIN:DAYLIGHT
TZOFFSETFROM:+0200
TZOFFSETTO:+0300
TZNAME:EEST
DTSTART:20270328T010000
END:DAYLIGHT
BEGIN:STANDARD
TZOFFSETFROM:+0300
TZOFFSETTO:+0200
TZNAME:EET
DTSTART:20271031T010000
END:STANDARD
END:VTIMEZONE
BEGIN:VEVENT
DTSTART;TZID=Europe/Helsinki:20260430T183000
DTEND;TZID=Europe/Helsinki:20260430T235900
DTSTAMP:20260421T105359
CREATED:20251125T083835Z
LAST-MODIFIED:20260202T200315Z
UID:25447-1777573800-1777593540@backend.getoutin.co.za
SUMMARY:Cursed Thursdays : Tarot Night
DESCRIPTION:Cursed Thursdays: Tarot Night & Alchemical Cocktails \nSummoning all discerning seekers. \nIntroducing **Cursed Thursdays**\, a monthly platform for local Tarot lovers. \n**One event\, two tables!**\n– **Table 1:** Join a meet-up with other aspiring Tarot Readers\n– **Table 2:** Get a Tarot Reading by our collective of professional tarot readers \n**R250** gets you in (to the table of your choice)\, as well as a complimentary alchemical cocktail\, brought to you by **Suncamino Floral Rum**. \n**Details:** \n– **Table 1: Tarot Meet-up (18:30)**\nMeet other Tarot readers for a monthly tarot workshop by *The Muse herself*\, experiment with new decks\, and participate in our “spread for the night”. \n– **Table 2: Get a Reading (19:30–22:00\, 30-minute slots)**\nJoin our table and get your cards read by our pro readers. Simple as that! \n**Available slots:** \n1.) 19:30–20:00\n2.) 20:00–20:30\n3.) 20:30–21:00\n4.) 21:00–21:30\n5.) 21:30–22:00 \n**Note:** Spaces are limited—book to avoid disappointment.
URL:https://backend.getoutin.co.za/events/cursed-thursdays-tarot-night-3/
LOCATION:The Secret Gin Bar
CATEGORIES:Age Restriction 18+ / 21+,Food / Drinks Events,Lifestyle / Wellness,Miscellaneous Cultural
ATTACH;FMTTYPE=image/jpeg:https://backend.getoutin.co.za/wp-content/uploads/2025/11/Cursed-Thursdays-Modern-Muse-Tarot-Generic-1-scaled.jpg
END:VEVENT
BEGIN:VEVENT
DTSTART;TZID=Europe/Helsinki:20260528T183000
DTEND;TZID=Europe/Helsinki:20260528T235900
DTSTAMP:20260421T105359
CREATED:20251125T083840Z
LAST-MODIFIED:20260202T200351Z
UID:25445-1779993000-1780012740@backend.getoutin.co.za
SUMMARY:Cursed Thursdays : Tarot Night
DESCRIPTION:Cursed Thursdays: Tarot Night & Alchemical Cocktails \nSummoning all discerning seekers. \nIntroducing **Cursed Thursdays**\, a monthly platform for local Tarot lovers. \n**One event\, two tables!**\n– **Table 1:** Join a meet-up with other aspiring Tarot Readers\n– **Table 2:** Get a Tarot Reading by our collective of professional tarot readers \n**R250** gets you in (to the table of your choice)\, as well as a complimentary alchemical cocktail\, brought to you by **Suncamino Floral Rum**. \n**Details:** \n– **Table 1: Tarot Meet-up (18:30)**\nMeet other Tarot readers for a monthly tarot workshop by *The Muse herself*\, experiment with new decks\, and participate in our “spread for the night”. \n– **Table 2: Get a Reading (19:30–22:00\, 30-minute slots)**\nJoin our table and get your cards read by our pro readers. Simple as that! \n**Available slots:** \n1.) 19:30–20:00\n2.) 20:00–20:30\n3.) 20:30–21:00\n4.) 21:00–21:30\n5.) 21:30–22:00 \n**Note:** Spaces are limited—book to avoid disappointment.
URL:https://backend.getoutin.co.za/events/cursed-thursdays-tarot-night-4/
LOCATION:The Secret Gin Bar
CATEGORIES:Age Restriction 18+ / 21+,Food / Drinks Events,Lifestyle / Wellness,Miscellaneous Cultural
ATTACH;FMTTYPE=image/jpeg:https://backend.getoutin.co.za/wp-content/uploads/2025/11/Cursed-Thursdays-Modern-Muse-Tarot-Generic-scaled.jpg
END:VEVENT
END:VCALENDAR