BEGIN:VCALENDAR
VERSION:2.0
PRODID:-//Home - ECPv6.15.18//NONSGML v1.0//EN
CALSCALE:GREGORIAN
METHOD:PUBLISH
X-WR-CALNAME:Home
X-ORIGINAL-URL:https://backend.getoutin.co.za
X-WR-CALDESC:Events for Home
REFRESH-INTERVAL;VALUE=DURATION:PT1H
X-Robots-Tag:noindex
X-PUBLISHED-TTL:PT1H
BEGIN:VTIMEZONE
TZID:Europe/Helsinki
BEGIN:DAYLIGHT
TZOFFSETFROM:+0200
TZOFFSETTO:+0300
TZNAME:EEST
DTSTART:20250330T010000
END:DAYLIGHT
BEGIN:STANDARD
TZOFFSETFROM:+0300
TZOFFSETTO:+0200
TZNAME:EET
DTSTART:20251026T010000
END:STANDARD
BEGIN:DAYLIGHT
TZOFFSETFROM:+0200
TZOFFSETTO:+0300
TZNAME:EEST
DTSTART:20260329T010000
END:DAYLIGHT
BEGIN:STANDARD
TZOFFSETFROM:+0300
TZOFFSETTO:+0200
TZNAME:EET
DTSTART:20261025T010000
END:STANDARD
BEGIN:DAYLIGHT
TZOFFSETFROM:+0200
TZOFFSETTO:+0300
TZNAME:EEST
DTSTART:20270328T010000
END:DAYLIGHT
BEGIN:STANDARD
TZOFFSETFROM:+0300
TZOFFSETTO:+0200
TZNAME:EET
DTSTART:20271031T010000
END:STANDARD
END:VTIMEZONE
BEGIN:VEVENT
DTSTART;TZID=Europe/Helsinki:20260306T110000
DTEND;TZID=Europe/Helsinki:20260308T220000
DTSTAMP:20260423T033033
CREATED:20241107T123530Z
LAST-MODIFIED:20250724T144549Z
UID:5680-1772794800-1773007200@backend.getoutin.co.za
SUMMARY:Bazique
DESCRIPTION:Bazique is a unique collaboration of like minded Cape Town party promoters\, and hundreds of creatives\, musicians\, installation artists\, performing artists and workshop facilitators. \nWe come together a year to create a space for people from all over the world to marvel in a beautiful bubble of creativity for 3 days and 2 nights in a stunning location just outside of Tulbagh. \nAs a community we are committed to creating a safe\, nurturing space in which we can celebrate art\, music and dance – a space in which we can play and feel part of a conscious evolution\, with freedom of expression\, and a shared respect each other and mother nature. \n🙂 \nSOUTH AFRICA’S MOST ORIGINAL AND EXCITING LARGE-SCALE FESTIVAL OF PERFORMING ARTS IS BROUGHT TO YOU BY PEOPLE WHO ARE PASSIONATE ABOUT WHAT THEY DO AND PUT COMMUNITY FIRST \nOVER 3 DAYS AND 2 NIGHTS BAZIQUE 2026 WILL FEATURE \n5 MUSIC STAGES – INTERNATIONAL DJS – 110 LOCAL DJS – A MYRIAD OF PERFORMANCE ARTISTS – SPECTACULAR SITE ART INSTALLATIONS – POP-UP PARTIES – WORKSHOPS – AND AN INCREDIBLE\, RIVERSIDE LOCATION
URL:https://backend.getoutin.co.za/events/bazique-2/
LOCATION:Buffallo Drift
CATEGORIES:Age Restriction 18+ / 21+,Festivals,Lifestyle / Wellness,Miscellaneous Cultural,Party - Djs, Clubs, Live Music
ATTACH;FMTTYPE=image/jpeg:https://backend.getoutin.co.za/wp-content/uploads/2025/07/Bazique-2026.jpg
END:VEVENT
END:VCALENDAR