BEGIN:VCALENDAR
VERSION:2.0
PRODID:-//Home - ECPv6.15.18//NONSGML v1.0//EN
CALSCALE:GREGORIAN
METHOD:PUBLISH
X-ORIGINAL-URL:https://backend.getoutin.co.za
X-WR-CALDESC:Events for Home
REFRESH-INTERVAL;VALUE=DURATION:PT1H
X-Robots-Tag:noindex
X-PUBLISHED-TTL:PT1H
BEGIN:VTIMEZONE
TZID:Africa/Abidjan
BEGIN:STANDARD
TZOFFSETFROM:+0000
TZOFFSETTO:+0000
TZNAME:GMT
DTSTART:20250101T000000
END:STANDARD
END:VTIMEZONE
BEGIN:VEVENT
DTSTART;TZID=Africa/Abidjan:20260401T100000
DTEND;TZID=Africa/Abidjan:20260401T190000
DTSTAMP:20260422T171058
CREATED:20260401T112352Z
LAST-MODIFIED:20260401T112352Z
UID:37553-1775037600-1775070000@backend.getoutin.co.za
SUMMARY:Play Your First Song In One Hour
DESCRIPTION:Guitar Workshop: Play Your First Song in One Hour \nJoin us for a fun and interactive Beginner Guitar Workshop where you’ll learn how to play your very first song in just one hour! This workshop is perfect for absolute beginners who want to start their musical journey in a supportive and exciting environment. \nDate: 1 April 2026\nPrice: FREE \nSession Times:\n– Ages 10–16: 10:00 – 11:00\n– Ages 17+: 18:00 – 19:00 \nWhat You’ll Learn:\n– Fundamental guitar chords\n– Basic strumming patterns\n– How to combine chords and rhythm to play your first song \nWho Can Attend:\n– Young beginners (Ages 10–16)\n– Adult beginners (Ages 17+) \nNo prior experience is required. Just bring your guitar and your enthusiasm! Limited spaces available – book your spot now and start playing today!
URL:https://backend.getoutin.co.za/events/play-your-first-song-in-one-hour/
LOCATION:M&M Music and Performing Arts College
CATEGORIES:Kids / Teenagers,Lifestyle / Wellness,Miscellaneous Cultural,Whole Family Fun
ATTACH;FMTTYPE=image/png:https://backend.getoutin.co.za/wp-content/uploads/2025/11/event-image-151.png
END:VEVENT
END:VCALENDAR