BEGIN:VCALENDAR
VERSION:2.0
PRODID:-//Home - ECPv6.15.18//NONSGML v1.0//EN
CALSCALE:GREGORIAN
METHOD:PUBLISH
X-WR-CALNAME:Home
X-ORIGINAL-URL:https://backend.getoutin.co.za
X-WR-CALDESC:Events for Home
REFRESH-INTERVAL;VALUE=DURATION:PT1H
X-Robots-Tag:noindex
X-PUBLISHED-TTL:PT1H
BEGIN:VTIMEZONE
TZID:Africa/Abidjan
BEGIN:STANDARD
TZOFFSETFROM:+0000
TZOFFSETTO:+0000
TZNAME:GMT
DTSTART:20250101T000000
END:STANDARD
END:VTIMEZONE
BEGIN:VEVENT
DTSTART;TZID=Africa/Abidjan:20260430T200000
DTEND;TZID=Africa/Abidjan:20260501T020000
DTSTAMP:20260422T152853
CREATED:20260416T050133Z
LAST-MODIFIED:20260416T050525Z
UID:38760-1777579200-1777600800@backend.getoutin.co.za
SUMMARY:Groovers Connect: DBN Gogo Live
DESCRIPTION:GROOVERS CONNECT lands at Club Paradise with pure high-energy vibes on Thursday\, 30 April (NEXT DAY PUBLIC HOLIDAY!). \nHeadlined by the queen of Amapiano\, DBN Gogo\, this is one massive night that you do not want to miss! Known for shutting down major stages and pushing the sound worldwide\, DBN Gogo brings elite-level energy\, undeniable presence\, and a catalogue that keeps dance floors locked in from start to finish. \nThis isn’t just another night out — it’s a meeting point for real music lovers\, tastemakers\, and groove leaders. \nLoud music. Real connection. No slowing down.\nBorn To Groove. Built To Connect.
URL:https://backend.getoutin.co.za/events/groovers-connect-dbn-gogo-live-2/
LOCATION:Club Paradise
CATEGORIES:Age Restriction 18+ / 21+,Amapiano, Hip Hop, Reggae, Afro etc. (Uptempo),Party - Djs, Clubs, Live Music
ATTACH;FMTTYPE=image/png:https://backend.getoutin.co.za/wp-content/uploads/2024/12/event-image-34-scaled.png
END:VEVENT
END:VCALENDAR