BEGIN:VCALENDAR
VERSION:2.0
PRODID:-//Home - ECPv6.15.18//NONSGML v1.0//EN
CALSCALE:GREGORIAN
METHOD:PUBLISH
X-ORIGINAL-URL:https://backend.getoutin.co.za
X-WR-CALDESC:Events for Home
REFRESH-INTERVAL;VALUE=DURATION:PT1H
X-Robots-Tag:noindex
X-PUBLISHED-TTL:PT1H
BEGIN:VTIMEZONE
TZID:Africa/Abidjan
BEGIN:STANDARD
TZOFFSETFROM:+0000
TZOFFSETTO:+0000
TZNAME:GMT
DTSTART:20250101T000000
END:STANDARD
END:VTIMEZONE
BEGIN:VEVENT
DTSTART;TZID=Africa/Abidjan:20260418T200000
DTEND;TZID=Africa/Abidjan:20260419T020000
DTSTAMP:20260422T171058
CREATED:20260312T104343Z
LAST-MODIFIED:20260312T104343Z
UID:35628-1776542400-1776564000@backend.getoutin.co.za
SUMMARY:The Ace of Clubs
DESCRIPTION:Where Music Brings People Together!
URL:https://backend.getoutin.co.za/events/the-ace-of-clubs/
LOCATION:Roxy Woodstock\, 354 Albert Rd\, Woodstock\, Cape Town\, 7925\, Cape Town\, South Africa
CATEGORIES:Age Restriction 18+ / 21+,Party - Djs, Clubs, Live Music
ATTACH;FMTTYPE=image/jpeg:https://backend.getoutin.co.za/wp-content/uploads/2025/01/event-image-21-scaled.jpeg
END:VEVENT
BEGIN:VEVENT
DTSTART;TZID=Africa/Abidjan:20260418T200000
DTEND;TZID=Africa/Abidjan:20260419T020000
DTSTAMP:20260422T171058
CREATED:20260414T154307Z
LAST-MODIFIED:20260414T154307Z
UID:38617-1776542400-1776564000@backend.getoutin.co.za
SUMMARY:High Fidelity Soul Food Sessions presents DEEP IN TOUCH
DESCRIPTION:High Fidelity Soul Food Sessions presents DEEP IN TOUCH \nA new chapter unfolding in a space designed for sound and setting. This time we head out to Hout Bay\, bringing a vinyl-only session to one of the most beautiful corners of the city — a gathering for those who appreciate the deeper side of house music and the culture around it. \nStep into a deeper journey through house music\, guided by a selection of seasoned selectors. Expect timeless vinyl textures\, deep grooves\, and carefully curated selections — all rooted in groove\, feeling\, and intention. The night is not bound to one sound or one lane of house music\, but rather a journey through deeper\, soulful\, and groove-driven house music — different strokes for house folks. \nSet against the backdrop of Hout Bay Harbour\, The Loft features a proper dance floor with room to move and let go\, powered by a JBL sound system delivering warm\, detailed sound. With a full bar and food available\, the space is built for deep time on the dance floor. \nTurntable technicians:\nMatt Noir\nIktomi\nReal Rozzano\nNeil Gain \nStarts at 8 PM\nEarly Bird: R80 available until 11 April\nDoor: R100\nNo under 21s | R.O.A.R.\nDrink responsibly \nWhat to bring:\nA groovy attitude — leave the attitude at home
URL:https://backend.getoutin.co.za/events/high-fidelity-soul-food-sessions-presents-deep-in-touch/
LOCATION:The Loft – Hout Bay\, 31 Harbour Rd\, Hout Bay\, Cape Town\, 7806\, Cape Town\, South Africa
CATEGORIES:Age Restriction 18+ / 21+,Blues, Jazz, Soul etc. (Downtempo),Party - Djs, Clubs, Live Music
ATTACH;FMTTYPE=image/jpeg:https://backend.getoutin.co.za/wp-content/uploads/2026/02/event-image-53.jpeg
END:VEVENT
END:VCALENDAR