BEGIN:VCALENDAR
VERSION:2.0
PRODID:-//Home - ECPv6.15.18//NONSGML v1.0//EN
CALSCALE:GREGORIAN
METHOD:PUBLISH
X-ORIGINAL-URL:https://backend.getoutin.co.za
X-WR-CALDESC:Events for Home
REFRESH-INTERVAL;VALUE=DURATION:PT1H
X-Robots-Tag:noindex
X-PUBLISHED-TTL:PT1H
BEGIN:VTIMEZONE
TZID:Africa/Abidjan
BEGIN:STANDARD
TZOFFSETFROM:+0000
TZOFFSETTO:+0000
TZNAME:GMT
DTSTART:20250101T000000
END:STANDARD
END:VTIMEZONE
BEGIN:VEVENT
DTSTART;TZID=Africa/Abidjan:20260409T200000
DTEND;TZID=Africa/Abidjan:20260410T040000
DTSTAMP:20260422T171116
CREATED:20260402T090021Z
LAST-MODIFIED:20260402T090021Z
UID:37774-1775764800-1775793600@backend.getoutin.co.za
SUMMARY:VANTA
DESCRIPTION:Step into the dark. \nVANTA is not your typical night out\, it’s an atmosphere built around sound\, energy\, and immersion. Minimal light\, heavy bass\, and a space designed to pull you out of everything else. \nNo distractions. No overproduction. Just music\, movement\, and the right people. \nExpect a curated lineup\, deep rhythms\, and a crowd that’s there for the experience\, not just the scene. This is where you lose track of time and find the moment.
URL:https://backend.getoutin.co.za/events/vanta/
LOCATION:HALO Nightclub\, 71 LOOP STREET\, Cape Town\, South Africa
CATEGORIES:Age Restriction 18+ / 21+,Party - Djs, Clubs, Live Music
ATTACH;FMTTYPE=image/jpeg:https://backend.getoutin.co.za/wp-content/uploads/2024/12/event-image-125-scaled.jpeg
END:VEVENT
END:VCALENDAR