BEGIN:VCALENDAR
VERSION:2.0
PRODID:-//Home - ECPv6.15.18//NONSGML v1.0//EN
CALSCALE:GREGORIAN
METHOD:PUBLISH
X-ORIGINAL-URL:https://backend.getoutin.co.za
X-WR-CALDESC:Events for Home
REFRESH-INTERVAL;VALUE=DURATION:PT1H
X-Robots-Tag:noindex
X-PUBLISHED-TTL:PT1H
BEGIN:VTIMEZONE
TZID:Africa/Abidjan
BEGIN:STANDARD
TZOFFSETFROM:+0000
TZOFFSETTO:+0000
TZNAME:GMT
DTSTART:20250101T000000
END:STANDARD
END:VTIMEZONE
BEGIN:VEVENT
DTSTART;TZID=Africa/Abidjan:20260425T080000
DTEND;TZID=Africa/Abidjan:20260425T133000
DTSTAMP:20260421T075212
CREATED:20260420T220435Z
LAST-MODIFIED:20260420T220435Z
UID:39008-1777104000-1777123800@backend.getoutin.co.za
SUMMARY:Find Your Flow - Longboarding and Yoga Workshop
DESCRIPTION:Find Your Flow is the brainchild of Jessica Megaw and Taio Veitch\, both passionate longboarders and yoga teachers. Over the years\, we have observed the common thread that runs through yoga and the relaxed and graceful style of longboarding and aim to curate an experience that captures and shares this essence. \nFind Your Flow weaves yoga\, creativity\, connection\, mindset\, and fun in combination with practical longboard coaching. \nTaio and Jess have both dipped toes into the competitive longboarding scene. Jess surfed for the Border team in the 2024 South African Longboard championships\, and Taio was awarded the Queen of Style after surfing in the semi-finals at the purist longboarding event ‘The Cobbles Classic’. \nWe are both qualified yoga teachers and bring our background in facilitation and yoga into this longboarding workshop. We are excited to share tangible\, practical surf tips combined with the philosophical\, psychological and creative aspects that have helped us find our ‘flow’ in the water. \nThis workshop includes:\n– A rejuvenating yoga class focused on alignment and designed for surfers\n– Connection and creative expression through dance\, creative writing and sharing circles\n– Food and drink: Arrival tea\, small smoothie\, healthy lunch (courtesy of the Common’s kitchen)\n– Practical surf tips and theory coaching session\n– Group surf and in-water coaching (pictures of the session will be captured for you to take home)\n– Consolidation and reflections over lunch at the Commons \nPlease feel free to email taioveitch99@gmail.com if you have any questions. \nThe Gift – an ode to Muizenberg longboarding (short film)
URL:https://backend.getoutin.co.za/events/find-your-flow-longboarding-and-yoga-workshop/
LOCATION:The Commons
CATEGORIES:Lifestyle / Wellness,Miscellaneous Cultural,Sport Events,Whole Family Fun
ATTACH;FMTTYPE=image/png:https://backend.getoutin.co.za/wp-content/uploads/2024/11/event-image-54.png
END:VEVENT
END:VCALENDAR