BEGIN:VCALENDAR
VERSION:2.0
PRODID:-//Home - ECPv6.15.18//NONSGML v1.0//EN
CALSCALE:GREGORIAN
METHOD:PUBLISH
X-WR-CALNAME:Home
X-ORIGINAL-URL:https://backend.getoutin.co.za
X-WR-CALDESC:Events for Home
REFRESH-INTERVAL;VALUE=DURATION:PT1H
X-Robots-Tag:noindex
X-PUBLISHED-TTL:PT1H
BEGIN:VTIMEZONE
TZID:Africa/Abidjan
BEGIN:STANDARD
TZOFFSETFROM:+0000
TZOFFSETTO:+0000
TZNAME:GMT
DTSTART:20250101T000000
END:STANDARD
END:VTIMEZONE
BEGIN:VEVENT
DTSTART;TZID=Africa/Abidjan:20260530T160000
DTEND;TZID=Africa/Abidjan:20260530T210000
DTSTAMP:20260422T052340
CREATED:20260316T091423Z
LAST-MODIFIED:20260316T091423Z
UID:36405-1780156800-1780174800@backend.getoutin.co.za
SUMMARY:Bed By 10pm LGBTQIA+ Edition - Cape Town
DESCRIPTION:Wanna serve face\, shake it all night\, and still be wrapped in a duvet by 10 (ish)? Then we got you boo! 💅💖 Bed By 10 LGBTQIA+ Edition💖 is the ultimate throwback night for the LGBTQIA+ legends who rave responsibly. Think 80s–00s bangers\, fierce drag queens\, and more sparkle than a sequinned speedo. \nLive shows\, DJ-spun classics\, confetti storms and camp chaos await. It’s a fever dream of glitter and nostalgia—with a firm commitment to self-care.✨ Come for the chaos\, leave before the comedown. ✨ \nVenue: District\, 61c Harrington St\, District Six\, Cape Town\, 7925\, South Africa\nTime: 4pm – 9pm\nLast Entry: 5:00pm\nGood vibes only! Our event is designed for those who love to dance\, socialise\, and enjoy great music—all while being home and in bed by 10PM✨ \nIMPORTANT INFO:\nThis Is A DJ Club Night\, The Artists Pictured In Our Event Artwork Are Not Performing\nThis Is An Event Catering To Those Over 25\, However\, If Friends 18+ Would Like To Attend Then They Are Welcome. \nCONTACT US:\nPlease contact our Comms Team via the Enquiry Form found on the “Contact Us” page on our website www.likeit-loveit.com/pages/contact-us. Our Comms Team is based in the UK & aim to respond to all enquires within 48 hours (excluding weekends & UK public holidays).
URL:https://backend.getoutin.co.za/events/bed-by-10pm-lgbtqia-edition-cape-town/
LOCATION:District (Club)\, 61c Harrington St\, District Six\, Cape Town\, 7925\, Cape Town\, South Africa
CATEGORIES:Age Restriction 18+ / 21+,Party - Djs, Clubs, Live Music
ATTACH;FMTTYPE=image/jpeg:https://backend.getoutin.co.za/wp-content/uploads/2024/12/event-image-99-scaled.jpeg
END:VEVENT
END:VCALENDAR