BEGIN:VCALENDAR
VERSION:2.0
PRODID:-//Home - ECPv6.15.18//NONSGML v1.0//EN
CALSCALE:GREGORIAN
METHOD:PUBLISH
X-ORIGINAL-URL:https://backend.getoutin.co.za
X-WR-CALDESC:Events for Home
REFRESH-INTERVAL;VALUE=DURATION:PT1H
X-Robots-Tag:noindex
X-PUBLISHED-TTL:PT1H
BEGIN:VTIMEZONE
TZID:Africa/Abidjan
BEGIN:STANDARD
TZOFFSETFROM:+0000
TZOFFSETTO:+0000
TZNAME:GMT
DTSTART:20250101T000000
END:STANDARD
END:VTIMEZONE
BEGIN:VEVENT
DTSTART;TZID=Africa/Abidjan:20260424T193000
DTEND;TZID=Africa/Abidjan:20260424T223000
DTSTAMP:20260422T004435
CREATED:20260225T061229Z
LAST-MODIFIED:20260225T061229Z
UID:32981-1777059000-1777069800@backend.getoutin.co.za
SUMMARY:Jaryd Pillay Hosts Grounded Comedy Nights
DESCRIPTION:Join us every Friday at Grounded Comedy Nights which is hosted by award-winning Comedian\, Jaryd Pillay!\n  \nOn the line up\, we’ve got 6 – 8 talented comedians looking to make their mark in Cape Town. You are bound to have an evening filled with fun and great comedy.\n  \nTime: Show starts at 8pm but join from 6:30pm for dinner and drinks before the show starts.\n  \nPrepare for an unforgettable comedy experience. Delicious food on offer\, think burgers! Bring your friends\, arrive early\, and warm up for the Comedy Night festivities!\n  \nTickets are priced at R100\, granting you access to an evening of top-notch comedy and good vibes.\n  \nDon’t miss out on the fun! Join us at Ground Culture Cafe\, situated at 170 Lower Main Road\, Observatory\, for a night filled with laughter\, delicious food\, and great company. See you there!
URL:https://backend.getoutin.co.za/events/jaryd-pillay-hosts-grounded-comedy-nights-13/
LOCATION:Ground Culture Cafe
CATEGORIES:Age Restriction 18+ / 21+,Comedy
ATTACH;FMTTYPE=image/jpeg:https://backend.getoutin.co.za/wp-content/uploads/2025/02/event-image-18.jpeg
END:VEVENT
BEGIN:VEVENT
DTSTART;TZID=Africa/Abidjan:20260501T193000
DTEND;TZID=Africa/Abidjan:20260501T223000
DTSTAMP:20260422T004435
CREATED:20260305T071159Z
LAST-MODIFIED:20260305T071159Z
UID:32982-1777663800-1777674600@backend.getoutin.co.za
SUMMARY:Jaryd Pillay Hosts Grounded Comedy Nights
DESCRIPTION:Join us every Friday at Grounded Comedy Nights which is hosted by award-winning Comedian\, Jaryd Pillay!  \nOn the line up\, we’ve got 6 – 8 talented comedians looking to make their mark in Cape Town. You are bound to have an evening filled with fun and great comedy. \nTime: Show starts at 8pm but join from 6:30pm for dinner and drinks before the show starts. \nPrepare for an unforgettable comedy experience. Delicious food on offer\, think burgers! Bring your friends\, arrive early\, and warm up for the Comedy Night festivities! \nTickets are priced at R100\, granting you access to an evening of top-notch comedy and good vibes. \nDon’t miss out on the fun! Join us at Ground Culture Cafe\, situated at 170 Lower Main Road\, Observatory\, for a night filled with laughter\, delicious food\, and great company. See you there!
URL:https://backend.getoutin.co.za/events/jaryd-pillay-hosts-grounded-comedy-nights-14/
LOCATION:Ground Culture Cafe
CATEGORIES:Age Restriction 18+ / 21+,Comedy
ATTACH;FMTTYPE=image/jpeg:https://backend.getoutin.co.za/wp-content/uploads/2025/02/event-image-18.jpeg
END:VEVENT
BEGIN:VEVENT
DTSTART;TZID=Africa/Abidjan:20260515T193000
DTEND;TZID=Africa/Abidjan:20260515T223000
DTSTAMP:20260422T004435
CREATED:20260313T075254Z
LAST-MODIFIED:20260313T075254Z
UID:32984-1778873400-1778884200@backend.getoutin.co.za
SUMMARY:Jaryd Pillay Hosts Grounded Comedy Nights
DESCRIPTION:Join us every Friday at Grounded Comedy Nights which is hosted by award-winning Comedian\, Jaryd Pillay!  \nOn the line up\, we’ve got 6 – 8 talented comedians looking to make their mark in Cape Town. You are bound to have an evening filled with fun and great comedy. \nTime: Show starts at 8pm but join from 6:30pm for dinner and drinks before the show starts. \nPrepare for an unforgettable comedy experience. Delicious food on offer\, think burgers! Bring your friends\, arrive early\, and warm up for the Comedy Night festivities! \nTickets are priced at R100\, granting you access to an evening of top-notch comedy and good vibes. \nDon’t miss out on the fun! Join us at Ground Culture Cafe\, situated at 170 Lower Main Road\, Observatory\, for a night filled with laughter\, delicious food\, and great company. See you there!
URL:https://backend.getoutin.co.za/events/jaryd-pillay-hosts-grounded-comedy-nights-16/
LOCATION:Ground Culture Cafe
CATEGORIES:Age Restriction 18+ / 21+,Comedy
ATTACH;FMTTYPE=image/jpeg:https://backend.getoutin.co.za/wp-content/uploads/2025/02/event-image-18.jpeg
END:VEVENT
END:VCALENDAR