BEGIN:VCALENDAR
VERSION:2.0
PRODID:-//Home - ECPv6.15.18//NONSGML v1.0//EN
CALSCALE:GREGORIAN
METHOD:PUBLISH
X-ORIGINAL-URL:https://backend.getoutin.co.za
X-WR-CALDESC:Events for Home
REFRESH-INTERVAL;VALUE=DURATION:PT1H
X-Robots-Tag:noindex
X-PUBLISHED-TTL:PT1H
BEGIN:VTIMEZONE
TZID:Africa/Abidjan
BEGIN:STANDARD
TZOFFSETFROM:+0000
TZOFFSETTO:+0000
TZNAME:GMT
DTSTART:20250101T000000
END:STANDARD
END:VTIMEZONE
BEGIN:VEVENT
DTSTART;TZID=Africa/Abidjan:20260424T173000
DTEND;TZID=Africa/Abidjan:20260424T213000
DTSTAMP:20260421T024453
CREATED:20260413T051517Z
LAST-MODIFIED:20260413T051517Z
UID:38307-1777051800-1777066200@backend.getoutin.co.za
SUMMARY:A33 | Friday Sessions |
DESCRIPTION:A33 Friday Sessions – weekly series featuring invited selectors and friends of the space. \nBuilt around deep listening and meaningful connection. \nEvery Friday\n5:30pm — 9:30pm \n#CommunityIsConnectivity
URL:https://backend.getoutin.co.za/events/a33-friday-sessions-3/
LOCATION:A33 (Analogue 33)\, 7 Orphan St\, Cape Town City Centre\, Cape Town\, 8000\, Cape Town\, South Africa
CATEGORIES:Age Restriction 18+ / 21+,Blues, Jazz, Soul etc. (Downtempo)
ATTACH;FMTTYPE=image/jpeg:https://backend.getoutin.co.za/wp-content/uploads/2026/04/Analogue-33-Friday-Sessions-generic-scaled.jpg
END:VEVENT
BEGIN:VEVENT
DTSTART;TZID=Africa/Abidjan:20260424T200000
DTEND;TZID=Africa/Abidjan:20260425T030000
DTSTAMP:20260421T024453
CREATED:20260312T104352Z
LAST-MODIFIED:20260312T104352Z
UID:35583-1777060800-1777086000@backend.getoutin.co.za
SUMMARY:CASA CPT
DESCRIPTION:CASA 🌴 \nWelcome Home. \nWelcome to CASA — where music\, culture\, and community come together under one roof. \nStep into an atmosphere built on good energy\, great people\, and unforgettable sounds. Expect a carefully curated experience featuring house\, amapiano\, R&B\, and feel-good rhythms designed to keep you dancing from day into night. \nCASA isn’t just a party — it’s a space to connect\, celebrate\, and feel at home. \n✨ Good music\n🍹 Great energy\n🕺 Beautiful people \nCASA — Welcome Home.
URL:https://backend.getoutin.co.za/events/casa-cpt/
LOCATION:Club Paradise
CATEGORIES:Age Restriction 18+ / 21+,Amapiano, Hip Hop, Reggae, Afro etc. (Uptempo),Party - Djs, Clubs, Live Music
ATTACH;FMTTYPE=image/jpeg:https://backend.getoutin.co.za/wp-content/uploads/2024/12/event-image-81-scaled.jpeg
END:VEVENT
BEGIN:VEVENT
DTSTART;TZID=Africa/Abidjan:20260424T200000
DTEND;TZID=Africa/Abidjan:20260425T035900
DTSTAMP:20260421T024453
CREATED:20260305T071040Z
LAST-MODIFIED:20260305T071040Z
UID:35537-1777060800-1777089540@backend.getoutin.co.za
SUMMARY:Casa
DESCRIPTION:Casa is a house built on sound\, culture and community. A space where the music feels intentional\, the crowd feels right and the energy carries through the room. \nThis is home.\nSave the date: 24 April 2026 ✨
URL:https://backend.getoutin.co.za/events/casa/
LOCATION:Club Paradise
CATEGORIES:Age Restriction 18+ / 21+,Party - Djs, Clubs, Live Music
ATTACH;FMTTYPE=image/jpeg:https://backend.getoutin.co.za/wp-content/uploads/2024/12/event-image-78-scaled.jpeg
END:VEVENT
BEGIN:VEVENT
DTSTART;TZID=Africa/Abidjan:20260425T220000
DTEND;TZID=Africa/Abidjan:20260426T025900
DTSTAMP:20260421T024453
CREATED:20260417T160205Z
LAST-MODIFIED:20260417T160205Z
UID:38831-1777154400-1777172340@backend.getoutin.co.za
SUMMARY:Midnight Mechanics Presents - SUBLEVEL
DESCRIPTION:Midnight Mechanics Presents – SUBLEVEL \nGo lower.\nSUBLEVEL drops beneath the surface at Deus Ex Machina Kloof Street – deep cuts\, stripped-back. \nWe’re going deep into the house of Deus. \nFeaturing:\nYALE supported by Jordan Cohen & Phee \nTicket on Airdosh: link in bio! \nHeavy grooves.\nEverything locked in. \nDeus Kloof St\nNo under 18s.
URL:https://backend.getoutin.co.za/events/midnight-mechanics-presents-sublevel/
LOCATION:Deus Ex Machina Kloof Street\, Deus Kloof St\, Cape Town\, Cape Town\, South Africa
CATEGORIES:Age Restriction 18+ / 21+,Party - Djs, Clubs, Live Music
ATTACH;FMTTYPE=image/jpeg:https://backend.getoutin.co.za/wp-content/uploads/2026/04/event-image-37-scaled.jpeg
END:VEVENT
BEGIN:VEVENT
DTSTART;TZID=Africa/Abidjan:20260425T220000
DTEND;TZID=Africa/Abidjan:20260426T040000
DTSTAMP:20260421T024453
CREATED:20260416T224147Z
LAST-MODIFIED:20260416T224147Z
UID:38802-1777154400-1777176000@backend.getoutin.co.za
SUMMARY:Yaffa Records prs. Move It EP Launch
DESCRIPTION:Cape Town\, it’s time we met! \nOn 25 April 2026\, Yaffa Records arrives in the Mother City for an exclusive showcase at Halo. Known for blending high-energy grooves with a deep sense of connection\, Yaffa is more than just a label—it’s a movement dedicated to the moments that turn a dancefloor into a community. \nFounded by Oi & Mosko\, the label brings a signature sound that prioritizes quality production and an infectious energy that stays with you long after the sun comes up. \nThe “House-Warming” Gift\nTo celebrate our first showcase in the city\, we are launching the “MOVE IT” EP on SoundCloud. Consider this our love letter to the Cape Town dancefloor—a gift to get the city moving before we meet in person. \nExclusive Early Bird Draw\nWe believe in high-quality sound and high-quality protection. The first 50 people to purchase Early Bird tickets will be automatically entered into a draw to win a premium set of AudioFeel High-Fidelity Earplugs + Necklace. Protect your hearing without losing the pulse of the music. \nThe Line-up\n10:00 PM: Goldbeat\n11:30 PM: Nino Tores\n01:00 AM: JuiceBox\n02:30 AM: Oi b2b Mosko \nTicket Information\nEarly Birds: Available until midnight\, Sunday\, March 22 (Includes entry to the AudioFeel lottery for the first 50!).\nGeneral Admission: Available until 6:00 PM\, Friday\, April 24.\nAt the Door: R200 until midnight / R250 thereafter. \nLocation: Halo\, Cape Town\nDate: 25 April 2026\nTime: 10:00 PM to Late \nConnect With Us\nWebsite: yaffarecords.com\nInstagram: @yaffarecords\nListen to Oi & Mosko Live: https://youtu.be/cL6I7uRfJ1Q?si=7zakHwVX1uyACZWG \nTickets are live now. Don’t sleep on the frequency!
URL:https://backend.getoutin.co.za/events/yaffa-records-prs-move-it-ep-launch/
LOCATION:HALO Nightclub\, 71 Loop St\, Cape Town City Centre\, Cape Town\, 8000\, Cape Town\, Western Cape\, South Africa
CATEGORIES:Age Restriction 18+ / 21+,Party - Djs, Clubs, Live Music
ATTACH;FMTTYPE=image/png:https://backend.getoutin.co.za/wp-content/uploads/2026/04/event-image-30.png
END:VEVENT
BEGIN:VEVENT
DTSTART;TZID=Africa/Abidjan:20260425T220000
DTEND;TZID=Africa/Abidjan:20260426T040000
DTSTAMP:20260421T024453
CREATED:20260419T102133Z
LAST-MODIFIED:20260419T113706Z
UID:38854-1777154400-1777176000@backend.getoutin.co.za
SUMMARY:Yaffa Records prs. Move It EP Launch
DESCRIPTION:Cape Town\, it’s time we met! \nOn 25 April 2026\, Yaffa Records arrives in the Mother City for an exclusive showcase at Halo. Known for blending high-energy grooves with a deep sense of connection\, Yaffa is more than just a label—it’s a movement dedicated to the moments that turn a dancefloor into a community. \nFounded by Oi & Mosko\, the label brings a signature sound that prioritizes quality production and an infectious energy that stays with you long after the sun comes up. \nThe “House-Warming” Gift\nTo celebrate our first showcase in the city\, we are launching the “MOVE IT” EP on SoundCloud. Consider this our love letter to the Cape Town dancefloor—a gift to get the city moving before we meet in person. \nExclusive Early Bird Draw\nWe believe in high-quality sound and high-quality protection. The first 50 people to purchase Early Bird tickets will be automatically entered into a draw to win a premium set of AudioFeel High-Fidelity Earplugs + Necklace. Protect your hearing without losing the pulse of the music. \nThe Line-up\n10:00 PM: Goldbeat\n11:30 PM: Nino Tores\n01:00 AM: JuiceBox\n02:30 AM: Oi b2b Mosko \nTicket Information\nEarly Birds: Available until midnight\, Sunday\, March 22 (Includes entry to the AudioFeel lottery for the first 50!).\nGeneral Admission: Available until 6:00 PM\, Friday\, April 24.\nAt the Door: R200 until midnight / R250 thereafter. \nLocation: Halo\, Cape Town\nDate: 25 April 2026\nTime: 10:00 PM to Late \nConnect With Us\nWebsite: yaffarecords.com\nInstagram: @yaffarecords\nListen to Oi & Mosko Live: https://youtu.be/cL6I7uRfJ1Q?si=7zakHwVX1uyACZWG \nTickets are live now. Don’t sleep on the frequency!
URL:https://backend.getoutin.co.za/events/yaffa-records-prs-move-it-ep-launch-2/
LOCATION:HALO Nightclub\, 71 Loop St\, Cape Town City Centre\, Cape Town\, 8000\, Cape Town\, Western Cape\, South Africa
CATEGORIES:Age Restriction 18+ / 21+,Party - Djs, Clubs, Live Music
ATTACH;FMTTYPE=image/png:https://backend.getoutin.co.za/wp-content/uploads/2026/04/event-image-31.png
END:VEVENT
BEGIN:VEVENT
DTSTART;TZID=Africa/Abidjan:20260426T140000
DTEND;TZID=Africa/Abidjan:20260427T025900
DTSTAMP:20260421T024453
CREATED:20260419T100915Z
LAST-MODIFIED:20260419T100915Z
UID:38845-1777212000-1777258740@backend.getoutin.co.za
SUMMARY:We House Sundays - Birthday Edition
DESCRIPTION:We House Sundays is an authentic music event held in the heart of South Africa’s Mother City – Cape Town. WHS celebrates the true essence of House Music by unifying diverse cultures\, and connecting artists\, music lovers and dancers from across the globe.
URL:https://backend.getoutin.co.za/events/we-house-sundays-birthday-edition/
LOCATION:ColorBox Studios
CATEGORIES:Age Restriction 18+ / 21+,Party - Djs, Clubs, Live Music
ATTACH;FMTTYPE=image/jpeg:https://backend.getoutin.co.za/wp-content/uploads/2024/12/event-image-15-scaled.jpg
END:VEVENT
BEGIN:VEVENT
DTSTART;TZID=Africa/Abidjan:20260430T220000
DTEND;TZID=Africa/Abidjan:20260501T035900
DTSTAMP:20260421T024453
CREATED:20260416T222835Z
LAST-MODIFIED:20260416T222835Z
UID:38785-1777586400-1777607940@backend.getoutin.co.za
SUMMARY:Blue Moon
DESCRIPTION:A captivating experience\, driven by the drums of African Electronic Music\, bodied by the spectrum of house\, experienced in the underground. Blue Moon curates diverse line-ups in unison with extended sets. \nFirst line up at Halo Night Club includes: \nNSIMBI\nLivhu\nPARIAH\nSTASHE \nLink in bio.
URL:https://backend.getoutin.co.za/events/blue-moon/
LOCATION:HALO Nightclub\, 71 Loop St\, Cape Town City Centre\, Cape Town\, 8000\, Cape Town\, Western Cape\, South Africa
CATEGORIES:Age Restriction 18+ / 21+,Party - Djs, Clubs, Live Music
ATTACH;FMTTYPE=image/jpeg:https://backend.getoutin.co.za/wp-content/uploads/2026/04/Screenshot-2026-04-17-000740-scaled.jpg
END:VEVENT
END:VCALENDAR