BEGIN:VCALENDAR
VERSION:2.0
PRODID:-//Home - ECPv6.15.18//NONSGML v1.0//EN
CALSCALE:GREGORIAN
METHOD:PUBLISH
X-ORIGINAL-URL:https://backend.getoutin.co.za
X-WR-CALDESC:Events for Home
REFRESH-INTERVAL;VALUE=DURATION:PT1H
X-Robots-Tag:noindex
X-PUBLISHED-TTL:PT1H
BEGIN:VTIMEZONE
TZID:Africa/Abidjan
BEGIN:STANDARD
TZOFFSETFROM:+0000
TZOFFSETTO:+0000
TZNAME:GMT
DTSTART:20250101T000000
END:STANDARD
END:VTIMEZONE
BEGIN:VEVENT
DTSTART;TZID=Africa/Abidjan:20260417T183000
DTEND;TZID=Africa/Abidjan:20260417T223000
DTSTAMP:20260422T121032
CREATED:20260414T063353Z
LAST-MODIFIED:20260414T063353Z
UID:38496-1776450600-1776465000@backend.getoutin.co.za
SUMMARY:Hippy Daze: Akkedis
DESCRIPTION:The Akkedis band started in the mid nineties in Stellenbosch and are a real institution on the Live Music Scene of South Africa. We are thrilled to have them back with their show Hippy Daze\, a collection of songs from the 60’s and 70’s. \nTickets R180pp (show only)\n18h30 for 19h00 (kitchen orders close at 19h00)\n*Live Music Starts AFTER Dinner Service is completed*\nDinner\, Dessert and Drinks available\nFully Licensed\, BYOB not permitted\nCard / Cash Payment\n15% Service Fee Charged \nMore on the band:\nThey have toured all over SA\, Namibia\, Moçambique\, Botswana\, Germany and England. They fuse African\, rock and blues sounds and mix several African languages with their Afrikaans and English. \nBand members are Rudolph Dennis on drums\, keyboard\, guitar and vocals. Twin brother\, Arthur on guitar and vocals\, joined by AJ Graham on bass guitar. They’ve recorded 5 albums and 2 more records with the late and Piet Botha – they were his de facto backing band and together\, they toured extensively as Piet Botha & the Lyzyrd Kings. \nTheir side projects include:\nA Sixties and seventies show (this one) called Hippy Daze\nA blues show\, A Neil Young tribute that has been rapturously received at Cafe Roux\, wherein they play Harvest in it’s entirety. Other tribute shows include a country show\, a show centred around piano based rocknroll compositions as well as a classic tribute to Jimi Hendrix. \nA picture of this band is probably in the dictionary next to the entry of a “working band”. The guys play all day\, every day\, driving near and far\, up and down these country\, to wherever the next gig is. The real deal…
URL:https://backend.getoutin.co.za/events/hippy-daze-akkedis/
LOCATION:The Alma Cafe
CATEGORIES:Age Restriction 18+ / 21+,Blues, Jazz, Soul etc. (Downtempo),Party - Djs, Clubs, Live Music
ATTACH;FMTTYPE=image/png:https://backend.getoutin.co.za/wp-content/uploads/2025/03/event-image-49.png
END:VEVENT
END:VCALENDAR