BEGIN:VCALENDAR
VERSION:2.0
PRODID:-//Home - ECPv6.15.18//NONSGML v1.0//EN
CALSCALE:GREGORIAN
METHOD:PUBLISH
X-ORIGINAL-URL:https://backend.getoutin.co.za
X-WR-CALDESC:Events for Home
REFRESH-INTERVAL;VALUE=DURATION:PT1H
X-Robots-Tag:noindex
X-PUBLISHED-TTL:PT1H
BEGIN:VTIMEZONE
TZID:Africa/Abidjan
BEGIN:STANDARD
TZOFFSETFROM:+0000
TZOFFSETTO:+0000
TZNAME:GMT
DTSTART:20250101T000000
END:STANDARD
END:VTIMEZONE
BEGIN:VEVENT
DTSTART;TZID=Africa/Abidjan:20260404T200000
DTEND;TZID=Africa/Abidjan:20260405T020000
DTSTAMP:20260422T222016
CREATED:20260331T082446Z
LAST-MODIFIED:20260331T082446Z
UID:37459-1775332800-1775354400@backend.getoutin.co.za
SUMMARY:Strictly Free: Felo Le Tee
DESCRIPTION:Welcome to Strictly Free – the party that breaks the rules. \nBig names. Big production. Zero ticket price. We’re proving that you don’t have to pay to experience the best. South Africa’s hottest artists\, a high-energy crowd\, and an atmosphere that screams “main stage” – all without the gatekeeping. This is where exclusivity meets accessibility. This is Strictly Free.
URL:https://backend.getoutin.co.za/events/strictly-free-felo-le-tee/
LOCATION:Club Paradise
CATEGORIES:Age Restriction 18+ / 21+,Amapiano, Hip Hop, Reggae, Afro etc. (Uptempo),Party - Djs, Clubs, Live Music
ATTACH;FMTTYPE=image/jpeg:https://backend.getoutin.co.za/wp-content/uploads/2024/12/event-image-116.jpeg
END:VEVENT
BEGIN:VEVENT
DTSTART;TZID=Africa/Abidjan:20260405T200000
DTEND;TZID=Africa/Abidjan:20260406T020000
DTSTAMP:20260422T222016
CREATED:20260401T185835Z
LAST-MODIFIED:20260401T185835Z
UID:37733-1775419200-1775440800@backend.getoutin.co.za
SUMMARY:Strictly Free: Morda
DESCRIPTION:Welcome to Strictly Free – the party that breaks the rules. Big names. Big production. Zero ticket price. \nWe’re proving that you don’t have to pay to experience the best. South Africa’s hottest artists\, a high-energy crowd\, and an atmosphere that screams “main stage” – all without the gatekeeping. This is where exclusivity meets accessibility. This is Strictly Free.
URL:https://backend.getoutin.co.za/events/strictly-free-morda/
LOCATION:Club Paradise
CATEGORIES:Age Restriction 18+ / 21+,Amapiano, Hip Hop, Reggae, Afro etc. (Uptempo),Party - Djs, Clubs, Live Music
ATTACH;FMTTYPE=image/jpeg:https://backend.getoutin.co.za/wp-content/uploads/2024/12/event-image-123.jpeg
END:VEVENT
END:VCALENDAR