BEGIN:VCALENDAR
VERSION:2.0
PRODID:-//Home - ECPv6.15.18//NONSGML v1.0//EN
CALSCALE:GREGORIAN
METHOD:PUBLISH
X-ORIGINAL-URL:https://backend.getoutin.co.za
X-WR-CALDESC:Events for Home
REFRESH-INTERVAL;VALUE=DURATION:PT1H
X-Robots-Tag:noindex
X-PUBLISHED-TTL:PT1H
BEGIN:VTIMEZONE
TZID:Africa/Abidjan
BEGIN:STANDARD
TZOFFSETFROM:+0000
TZOFFSETTO:+0000
TZNAME:GMT
DTSTART:20250101T000000
END:STANDARD
END:VTIMEZONE
BEGIN:VEVENT
DTSTART;TZID=Africa/Abidjan:20260418T100000
DTEND;TZID=Africa/Abidjan:20260418T120000
DTSTAMP:20260422T211544
CREATED:20260414T155438Z
LAST-MODIFIED:20260414T155439Z
UID:38645-1776506400-1776513600@backend.getoutin.co.za
SUMMARY:Rags to Riches - A Walking Tour Exploring Muizenberg both Modest and Magnificent
DESCRIPTION:Rags to Riches – A Walking Tour Exploring Muizenberg both Modest and Magnificent \nTwo Muizenbergs\, the tightly-packed dwellings of the Village and the grand homes of Beach Road\, are separated only by Alexander Road\, but their inhabitants lived in two different worlds. On our walking tour we explore the impressive houses of Beach Road\, and hear about the tobacco barons\, politicians\, retailers and randlords who occupied them. Only the best architects would do for these important clients\, and we are able to admire buildings by Baker and his partners\, William Hood Grant and other starchitects of the early 20th century. \nWe then wend our way through the intimate streets of the Village to see the world of Muizenberg’s butchers\, bakers\, fishmongers and drapers who worked and lived cheek by jowl with the many boarding houses that provided holiday accommodation during the brief but frenetic season. The Village has undergone a revival after a period of urban decay\, and its colourful and beautifully maintained buildings are today home to artists and activists. \nWHEN: 10h00 on Saturday 18 April.\nMEET AT: the corner of Alexander Road and Beach Road. Park at the Pavilion parking lot across the road.\nCOST: R200 for non-members (booking on Quicket); R100 for members (booking via email at info@muizenbergheritage.com)
URL:https://backend.getoutin.co.za/events/rags-to-riches-a-walking-tour-exploring-muizenberg-both-modest-and-magnificent/
LOCATION:Crnr Alexander and Beach Road\, Muizenberg\, 34 Beach Rd\, Muizenberg\, Cape Town\, 7950\, South Africa\, Cape Town\, South Africa
CATEGORIES:Miscellaneous Cultural,Whole Family Fun
ATTACH;FMTTYPE=image/jpeg:https://backend.getoutin.co.za/wp-content/uploads/2026/04/Screenshot-2026-04-14-165921-1-scaled.jpg
END:VEVENT
END:VCALENDAR