BEGIN:VCALENDAR
VERSION:2.0
PRODID:-//Home - ECPv6.15.18//NONSGML v1.0//EN
CALSCALE:GREGORIAN
METHOD:PUBLISH
X-WR-CALNAME:Home
X-ORIGINAL-URL:https://backend.getoutin.co.za
X-WR-CALDESC:Events for Home
REFRESH-INTERVAL;VALUE=DURATION:PT1H
X-Robots-Tag:noindex
X-PUBLISHED-TTL:PT1H
BEGIN:VTIMEZONE
TZID:Europe/Helsinki
BEGIN:DAYLIGHT
TZOFFSETFROM:+0200
TZOFFSETTO:+0300
TZNAME:EEST
DTSTART:20250330T010000
END:DAYLIGHT
BEGIN:STANDARD
TZOFFSETFROM:+0300
TZOFFSETTO:+0200
TZNAME:EET
DTSTART:20251026T010000
END:STANDARD
BEGIN:DAYLIGHT
TZOFFSETFROM:+0200
TZOFFSETTO:+0300
TZNAME:EEST
DTSTART:20260329T010000
END:DAYLIGHT
BEGIN:STANDARD
TZOFFSETFROM:+0300
TZOFFSETTO:+0200
TZNAME:EET
DTSTART:20261025T010000
END:STANDARD
BEGIN:DAYLIGHT
TZOFFSETFROM:+0200
TZOFFSETTO:+0300
TZNAME:EEST
DTSTART:20270328T010000
END:DAYLIGHT
BEGIN:STANDARD
TZOFFSETFROM:+0300
TZOFFSETTO:+0200
TZNAME:EET
DTSTART:20271031T010000
END:STANDARD
END:VTIMEZONE
BEGIN:VEVENT
DTSTART;TZID=Europe/Helsinki:20260427T183000
DTEND;TZID=Europe/Helsinki:20260427T235900
DTSTAMP:20260421T042243
CREATED:20251027T060351Z
LAST-MODIFIED:20260128T184508Z
UID:22694-1777314600-1777334340@backend.getoutin.co.za
SUMMARY:Quiz Night
DESCRIPTION:Monday Quiz Nights at Ground Culture Cafe. \nJoin us for a Monday evening of good laughs\, great food\, and a little brain-teasing fun at Ground Culture. \nHosted by the entertaining Inquizitorious Rex Quizzes\, this weekly quiz night is perfect whether you’re coming with friends or flying solo and joining a team on the night. Expect a lively atmosphere\, plenty of laughs\, and a few friendly debates over who really knows the facts. \nDetails: \nEvery Monday \nTime: Quiz starts at 7PM sharp\, arrive early to grab a seat \nEntry: R20 to join the quiz \nBurger Special: R80 burgers all night \nVenue: Ground Culture\, 170 Lower Main Road\, Observatory \nThere will be prizes up for grabs\, so bring your A-game or at least a friend who knows the capital of Madagascar.
URL:https://backend.getoutin.co.za/events/quiz-night-5/
LOCATION:Ground Culture Cafe
CATEGORIES:Miscellaneous Cultural,Whole Family Fun
ATTACH;FMTTYPE=image/png:https://backend.getoutin.co.za/wp-content/uploads/2025/10/event-image-99.png
END:VEVENT
BEGIN:VEVENT
DTSTART;TZID=Europe/Helsinki:20260504T183000
DTEND;TZID=Europe/Helsinki:20260504T235900
DTSTAMP:20260421T042243
CREATED:20251027T060309Z
LAST-MODIFIED:20260128T184523Z
UID:22692-1777919400-1777939140@backend.getoutin.co.za
SUMMARY:Quiz Night
DESCRIPTION:Monday Quiz Nights at Ground Culture Cafe. \nJoin us for a Monday evening of good laughs\, great food\, and a little brain-teasing fun at Ground Culture. \nHosted by the entertaining Inquizitorious Rex Quizzes\, this weekly quiz night is perfect whether you’re coming with friends or flying solo and joining a team on the night. Expect a lively atmosphere\, plenty of laughs\, and a few friendly debates over who really knows the facts. \nDetails: \nEvery Monday \nTime: Quiz starts at 7PM sharp\, arrive early to grab a seat \nEntry: R20 to join the quiz \nBurger Special: R80 burgers all night \nVenue: Ground Culture\, 170 Lower Main Road\, Observatory \nThere will be prizes up for grabs\, so bring your A-game or at least a friend who knows the capital of Madagascar.
URL:https://backend.getoutin.co.za/events/quiz-night-4/
LOCATION:Ground Culture Cafe
CATEGORIES:Miscellaneous Cultural,Whole Family Fun
ATTACH;FMTTYPE=image/png:https://backend.getoutin.co.za/wp-content/uploads/2025/10/event-image-98.png
END:VEVENT
BEGIN:VEVENT
DTSTART;TZID=Europe/Helsinki:20260511T183000
DTEND;TZID=Europe/Helsinki:20260511T235900
DTSTAMP:20260421T042243
CREATED:20251027T060253Z
LAST-MODIFIED:20260128T184531Z
UID:22690-1778524200-1778543940@backend.getoutin.co.za
SUMMARY:Quiz Night
DESCRIPTION:Monday Quiz Nights at Ground Culture Cafe. \nJoin us for a Monday evening of good laughs\, great food\, and a little brain-teasing fun at Ground Culture. \nHosted by the entertaining Inquizitorious Rex Quizzes\, this weekly quiz night is perfect whether you’re coming with friends or flying solo and joining a team on the night. Expect a lively atmosphere\, plenty of laughs\, and a few friendly debates over who really knows the facts. \nDetails: \nEvery Monday \nTime: Quiz starts at 7PM sharp\, arrive early to grab a seat \nEntry: R20 to join the quiz \nBurger Special: R80 burgers all night \nVenue: Ground Culture\, 170 Lower Main Road\, Observatory \nThere will be prizes up for grabs\, so bring your A-game or at least a friend who knows the capital of Madagascar.
URL:https://backend.getoutin.co.za/events/quiz-night-3/
LOCATION:Ground Culture Cafe
CATEGORIES:Miscellaneous Cultural,Whole Family Fun
ATTACH;FMTTYPE=image/png:https://backend.getoutin.co.za/wp-content/uploads/2025/10/event-image-97.png
END:VEVENT
BEGIN:VEVENT
DTSTART;TZID=Europe/Helsinki:20260518T183000
DTEND;TZID=Europe/Helsinki:20260518T235900
DTSTAMP:20260421T042243
CREATED:20251027T054846Z
LAST-MODIFIED:20260128T184539Z
UID:22682-1779129000-1779148740@backend.getoutin.co.za
SUMMARY:Quiz Night
DESCRIPTION:Monday Quiz Nights at Ground Culture \nJoin us for a Monday evening of good laughs\, great food\, and a little brain-teasing fun at Ground Culture. \nHosted by the entertaining Inquizitorious Rex Quizzes\, this weekly quiz night is perfect whether you’re coming with friends or flying solo and joining a team on the night. Expect a lively atmosphere\, plenty of laughs\, and a few friendly debates over who really knows the facts. \nDetails:\nEvery Monday\nTime: Quiz starts at 7PM sharp\, arrive early to grab a seat\nEntry: R20 to join the quiz\nBurger Special: R80 burgers all night\nVenue: Ground Culture\, 170 Lower Main Road\, Observatory \nThere will be prizes up for grabs\, so bring your A-game or at least a friend who knows the capital of Madagascar.
URL:https://backend.getoutin.co.za/events/quiz-night-2/
LOCATION:Ground Culture Cafe
CATEGORIES:Miscellaneous Cultural,Whole Family Fun
ATTACH;FMTTYPE=image/png:https://backend.getoutin.co.za/wp-content/uploads/2025/10/event-image-96.png
END:VEVENT
END:VCALENDAR