BEGIN:VCALENDAR
VERSION:2.0
PRODID:-//Home - ECPv6.15.18//NONSGML v1.0//EN
CALSCALE:GREGORIAN
METHOD:PUBLISH
X-ORIGINAL-URL:https://backend.getoutin.co.za
X-WR-CALDESC:Events for Home
REFRESH-INTERVAL;VALUE=DURATION:PT1H
X-Robots-Tag:noindex
X-PUBLISHED-TTL:PT1H
BEGIN:VTIMEZONE
TZID:Europe/Helsinki
BEGIN:DAYLIGHT
TZOFFSETFROM:+0200
TZOFFSETTO:+0300
TZNAME:EEST
DTSTART:20250330T010000
END:DAYLIGHT
BEGIN:STANDARD
TZOFFSETFROM:+0300
TZOFFSETTO:+0200
TZNAME:EET
DTSTART:20251026T010000
END:STANDARD
BEGIN:DAYLIGHT
TZOFFSETFROM:+0200
TZOFFSETTO:+0300
TZNAME:EEST
DTSTART:20260329T010000
END:DAYLIGHT
BEGIN:STANDARD
TZOFFSETFROM:+0300
TZOFFSETTO:+0200
TZNAME:EET
DTSTART:20261025T010000
END:STANDARD
BEGIN:DAYLIGHT
TZOFFSETFROM:+0200
TZOFFSETTO:+0300
TZNAME:EEST
DTSTART:20270328T010000
END:DAYLIGHT
BEGIN:STANDARD
TZOFFSETFROM:+0300
TZOFFSETTO:+0200
TZNAME:EET
DTSTART:20271031T010000
END:STANDARD
END:VTIMEZONE
BEGIN:VEVENT
DTSTART;TZID=Europe/Helsinki:20260422T220000
DTEND;TZID=Europe/Helsinki:20260422T235900
DTSTAMP:20260422T133935
CREATED:20260127T202124Z
LAST-MODIFIED:20260127T202124Z
UID:32930-1776895200-1776902340@backend.getoutin.co.za
SUMMARY:Club 101 | Wed. | LESS than More
DESCRIPTION:Just groove\, basically! \nA new weekly chapter begins. \nLESS than More takes over Wednesdays at Club 101 \n• Rominimal\n• Microhouse\n• Subtle grooves\n• Stripped-back music for those who move with intention \nEvery Wednesday\nClub 101\, Cape Town
URL:https://backend.getoutin.co.za/events/club-101-wed-less-than-more-5/
LOCATION:Club 101
CATEGORIES:Age Restriction 18+ / 21+,Party - Djs, Clubs, Live Music
ATTACH;FMTTYPE=image/jpeg:https://backend.getoutin.co.za/wp-content/uploads/2025/11/Less-than-more-CLub-101-generic-3-scaled.jpg
END:VEVENT
END:VCALENDAR