BEGIN:VCALENDAR
VERSION:2.0
PRODID:-//Home - ECPv6.15.18//NONSGML v1.0//EN
CALSCALE:GREGORIAN
METHOD:PUBLISH
X-ORIGINAL-URL:https://backend.getoutin.co.za
X-WR-CALDESC:Events for Home
REFRESH-INTERVAL;VALUE=DURATION:PT1H
X-Robots-Tag:noindex
X-PUBLISHED-TTL:PT1H
BEGIN:VTIMEZONE
TZID:Africa/Abidjan
BEGIN:STANDARD
TZOFFSETFROM:+0000
TZOFFSETTO:+0000
TZNAME:GMT
DTSTART:20250101T000000
END:STANDARD
END:VTIMEZONE
BEGIN:VEVENT
DTSTART;TZID=Africa/Abidjan:20260321T110000
DTEND;TZID=Africa/Abidjan:20260321T120000
DTSTAMP:20260422T134528
CREATED:20260306T204327Z
LAST-MODIFIED:20260306T204327Z
UID:35744-1774090800-1774094400@backend.getoutin.co.za
SUMMARY:Eleven O'Clock Circuit Session
DESCRIPTION:Every Saturday at 11 AM at MotleyCrew\, join our Functional Strength Group Circuit; a full-body workout designed to help you move better and get stronger. \nSuitable for all levels\, with options to support or challenge you at your pace.
URL:https://backend.getoutin.co.za/events/eleven-oclock-circuit-session-3/
LOCATION:MotleyCrew Crossfit\, 120 Main Rd\, Sea Point\, Cape Town\, 8060\, South Africa\, Cape Town\, South Africa
CATEGORIES:Sport Events,Whole Family Fun
ATTACH;FMTTYPE=image/png:https://backend.getoutin.co.za/wp-content/uploads/2026/01/event-image-38.png
END:VEVENT
BEGIN:VEVENT
DTSTART;TZID=Africa/Abidjan:20260328T110000
DTEND;TZID=Africa/Abidjan:20260328T120000
DTSTAMP:20260422T134528
CREATED:20260312T094114Z
LAST-MODIFIED:20260312T094114Z
UID:35745-1774695600-1774699200@backend.getoutin.co.za
SUMMARY:Eleven O'Clock Circuit Session
DESCRIPTION:Every Saturday at 11 AM at MotleyCrew\, join our Functional Strength Group Circuit; a full-body workout designed to help you move better and get stronger. \nSuitable for all levels\, with options to support or challenge you at your pace.
URL:https://backend.getoutin.co.za/events/eleven-oclock-circuit-session-4/
LOCATION:MotleyCrew Crossfit\, 120 Main Rd\, Sea Point\, Cape Town\, 8060\, South Africa\, Cape Town\, South Africa
CATEGORIES:Sport Events,Whole Family Fun
ATTACH;FMTTYPE=image/png:https://backend.getoutin.co.za/wp-content/uploads/2026/01/event-image-38.png
END:VEVENT
END:VCALENDAR