BEGIN:VCALENDAR
VERSION:2.0
PRODID:-//Home - ECPv6.15.18//NONSGML v1.0//EN
CALSCALE:GREGORIAN
METHOD:PUBLISH
X-ORIGINAL-URL:https://backend.getoutin.co.za
X-WR-CALDESC:Events for Home
REFRESH-INTERVAL;VALUE=DURATION:PT1H
X-Robots-Tag:noindex
X-PUBLISHED-TTL:PT1H
BEGIN:VTIMEZONE
TZID:Africa/Abidjan
BEGIN:STANDARD
TZOFFSETFROM:+0000
TZOFFSETTO:+0000
TZNAME:GMT
DTSTART:20250101T000000
END:STANDARD
END:VTIMEZONE
BEGIN:VEVENT
DTSTART;TZID=Africa/Abidjan:20260328T110000
DTEND;TZID=Africa/Abidjan:20260328T160000
DTSTAMP:20260422T084718
CREATED:20260303T101726Z
LAST-MODIFIED:20260303T101726Z
UID:35418-1774695600-1774713600@backend.getoutin.co.za
SUMMARY:Ritual Ropes: An Exploration Through the Colors of Tantra
DESCRIPTION:In this 5-hour workshop Tonic Tantra applies shibari to a Tantric framework as conscious practice. While basic knots and foundational rope techniques are covered\, the focus is on exploring Tantric pathways and how rope functions as an energetic medium and interpersonal practice. \nDesigned for beginners\, the workshop highlights how the nervous system shapes experience on both sides of the rope. Paired participants will receive short teaching segments\, guided rope-based Tantric practices\, and facilitated discussion\, working with themes such as stillness\, intimacy\, compassion\, polarity\, and power as they arise in the body and shared space. \nAbout The Workshop:\nThe Ritual Rope Workshop integrates Shibari and the energetic paths of Tantra as they unfold through the body\, nervous system\, and relational space. Sara (Tonic Tantra) uses the Colors of Tantra framework as a guided\, self-accountable map for embodied learning\, exploration\, and expansion. Each “color” represents a distinct energetic frequency of practice. Participants move between colors\, blend them\, or deepen into one\, depending on personal capacity\, context\, and desire. \nRather than prescribing a single “correct” way to practice Tantra or Shibari\, this workshop provides multiple entry points. Rope becomes a way to study presence\, sensation\, trust\, restraint\, and surrender; revealing how different Tantric “colors” express themselves in real time through the body and between people. \nParticipants are supported in recognizing their own patterns\, capacities\, and edges\, and in working with them intentionally rather than by habit.
URL:https://backend.getoutin.co.za/events/ritual-ropes-an-exploration-through-the-colors-of-tantra/
LOCATION:Unit G19\, Embodiment Rope Space
CATEGORIES:Age Restriction 18+ / 21+,Lifestyle / Wellness
ATTACH;FMTTYPE=image/jpeg:https://backend.getoutin.co.za/wp-content/uploads/2025/10/event-image-376.jpeg
END:VEVENT
END:VCALENDAR