BEGIN:VCALENDAR
VERSION:2.0
PRODID:-//Home - ECPv6.15.18//NONSGML v1.0//EN
CALSCALE:GREGORIAN
METHOD:PUBLISH
X-ORIGINAL-URL:https://backend.getoutin.co.za
X-WR-CALDESC:Events for Home
REFRESH-INTERVAL;VALUE=DURATION:PT1H
X-Robots-Tag:noindex
X-PUBLISHED-TTL:PT1H
BEGIN:VTIMEZONE
TZID:Africa/Abidjan
BEGIN:STANDARD
TZOFFSETFROM:+0000
TZOFFSETTO:+0000
TZNAME:GMT
DTSTART:20250101T000000
END:STANDARD
END:VTIMEZONE
BEGIN:VEVENT
DTSTART;TZID=Africa/Abidjan:20260502T200000
DTEND;TZID=Africa/Abidjan:20260503T035900
DTSTAMP:20260422T171117
CREATED:20260325T230501Z
LAST-MODIFIED:20260325T230501Z
UID:37318-1777752000-1777780740@backend.getoutin.co.za
SUMMARY:Are you Jas
DESCRIPTION:🍄 ARTIST SPOTLIGHT 🍄 \n🤪 DRANGED VS. DEADLOCK 🤪 \nIG: @dranged_official\nIG: @raaziq_d3adlock\n🎧 bit.ly/dranged_sama\n🎧 on.soundcloud.com/TDATbJCbYCv97NsF8 \nARE YOU JAS WAREHOUSE FESTIVAL 🚀 \nGENERAL & VIP TICKET LINK IN BIO 🎟 \n>> ftponline.co.za/shop <<
URL:https://backend.getoutin.co.za/events/are-you-jas/
LOCATION:The Bunker
CATEGORIES:Age Restriction 18+ / 21+,Festivals,Party - Djs, Clubs, Live Music
ATTACH;FMTTYPE=image/jpeg:https://backend.getoutin.co.za/wp-content/uploads/2025/10/event-image-397-scaled.jpeg
END:VEVENT
END:VCALENDAR