BEGIN:VCALENDAR
VERSION:2.0
PRODID:-//Home - ECPv6.15.18//NONSGML v1.0//EN
CALSCALE:GREGORIAN
METHOD:PUBLISH
X-ORIGINAL-URL:https://backend.getoutin.co.za
X-WR-CALDESC:Events for Home
REFRESH-INTERVAL;VALUE=DURATION:PT1H
X-Robots-Tag:noindex
X-PUBLISHED-TTL:PT1H
BEGIN:VTIMEZONE
TZID:Africa/Abidjan
BEGIN:STANDARD
TZOFFSETFROM:+0000
TZOFFSETTO:+0000
TZNAME:GMT
DTSTART:19690101T000000
END:STANDARD
END:VTIMEZONE
BEGIN:VEVENT
DTSTART;TZID=Africa/Abidjan:20260422T171059
DTEND;TZID=Africa/Abidjan:20260406T235900
DTSTAMP:20260422T171059
CREATED:20260406T104633Z
LAST-MODIFIED:20260406T104633Z
UID:37879-0-1775519940@backend.getoutin.co.za
SUMMARY:OUT OF OFFICE MONDAY 6 APRIL with Bloom Records
DESCRIPTION:OUT OF OFFICE MONDAY 6 APRIL with Bloom Records \nLog off. Show up. \nOut of Office lands at Deus Ex Machina Kloof Street – where the week starts a little later and ends a little louder. \nTrade the desk for the rooftop. Easy energy. No deadlines. \nDeus Kloof St\nNo under 18s.
URL:https://backend.getoutin.co.za/events/out-of-office-monday-6-april-with-bloom-records/
LOCATION:Deus Ex Machina – Kloof Street\, 18 Kloof St\, Gardens\, Cape Town\, 8001\, Cape Town\, South Africa
CATEGORIES:Age Restriction 18+ / 21+,Party - Djs, Clubs, Live Music
ATTACH;FMTTYPE=image/jpeg:https://backend.getoutin.co.za/wp-content/uploads/2026/01/Deus-Apr-6-scaled.jpg
END:VEVENT
BEGIN:VEVENT
DTSTART;TZID=Africa/Abidjan:20260329T180000
DTEND;TZID=Africa/Abidjan:20260330T020000
DTSTAMP:20260422T171059
CREATED:20260322T122406Z
LAST-MODIFIED:20260322T122407Z
UID:37025-1774807200-1774836000@backend.getoutin.co.za
SUMMARY:Foundation Sound
DESCRIPTION:Big tingz pon di endz dem!  \nSunday 29th Bass Culture brings the Bass elements together @roxy.woodstock starting from 3pm till 11pm. All the Bassheadz dis ah fi wi time now! 🔥🔥🔥
URL:https://backend.getoutin.co.za/events/foundation-sound-2/
LOCATION:Roxy Woodstock\, 354 Albert Rd\, Woodstock\, Cape Town\, 7925\, Cape Town\, South Africa
CATEGORIES:Age Restriction 18+ / 21+,Amapiano, Hip Hop, Reggae, Afro etc. (Uptempo),Party - Djs, Clubs, Live Music
ATTACH;FMTTYPE=image/jpeg:https://backend.getoutin.co.za/wp-content/uploads/2025/01/Screenshot-2026-03-20-074438-scaled.jpg
END:VEVENT
BEGIN:VEVENT
DTSTART;TZID=Africa/Abidjan:20260329T210000
DTEND;TZID=Africa/Abidjan:20260330T040000
DTSTAMP:20260422T171059
CREATED:20260317T153429Z
LAST-MODIFIED:20260317T153429Z
UID:36814-1774818000-1774843200@backend.getoutin.co.za
SUMMARY:PAMOJA
DESCRIPTION:Every city has a rhythm. \nSometimes\, it sleeps quietly beneath the noise. Sometimes\, it waits for the right moment\, the right people\, and the right energy to bring it to life. \nIn Africa\, rhythm has always been more than music. It is memory. It is spirit. It is the invisible thread that connects people who may have never met but somehow move the same way when the drum begins to speak. \nThis is where PAMOJA begins. Not as an event. As a feeling. A movement rooted in togetherness. In the idea that when sound moves through a room\, it dissolves the distance between us. \nStrangers become familiar. Movement becomes language. The dancefloor becomes a place where energy travels freely between people\, rhythm\, and space. \nPamoja is a gathering of that energy. A meeting point for those who understand the deeper pulse of Afro House and Afro Tech. Music that carries the warmth of the continent\, the depth of ancestral rhythm\, and the future of electronic sound. \nIt is where sound from the source finds its way into the room. Where the bass travels through the floor and the drum reminds the body of something ancient. \nNo rush. No noise. Just rhythm\, connection\, and movement flowing through everyone present. \nThose who know will recognize it immediately. Those who have not felt it yet will understand the moment they step inside. \nBecause some nights are just parties. And some nights become moments people remember long after the music stops. \nPAMOJA \nA rhythm. A gathering. A movement.
URL:https://backend.getoutin.co.za/events/pamoja/
LOCATION:HALO Nightclub\, 71 LOOP STREET\, Cape Town\, South Africa
CATEGORIES:Age Restriction 18+ / 21+,Amapiano, Hip Hop, Reggae, Afro etc. (Uptempo),Party - Djs, Clubs, Live Music
ATTACH;FMTTYPE=image/jpeg:https://backend.getoutin.co.za/wp-content/uploads/2024/12/event-image-102-scaled.jpeg
END:VEVENT
END:VCALENDAR