BEGIN:VCALENDAR
VERSION:2.0
PRODID:-//Home - ECPv6.15.18//NONSGML v1.0//EN
CALSCALE:GREGORIAN
METHOD:PUBLISH
X-WR-CALNAME:Home
X-ORIGINAL-URL:https://backend.getoutin.co.za
X-WR-CALDESC:Events for Home
REFRESH-INTERVAL;VALUE=DURATION:PT1H
X-Robots-Tag:noindex
X-PUBLISHED-TTL:PT1H
BEGIN:VTIMEZONE
TZID:Africa/Abidjan
BEGIN:STANDARD
TZOFFSETFROM:+0000
TZOFFSETTO:+0000
TZNAME:GMT
DTSTART:20250101T000000
END:STANDARD
END:VTIMEZONE
BEGIN:VEVENT
DTSTART;TZID=Africa/Abidjan:20260423T210000
DTEND;TZID=Africa/Abidjan:20260424T020000
DTSTAMP:20260422T153103
CREATED:20260414T154811Z
LAST-MODIFIED:20260414T154811Z
UID:38635-1776978000-1776996000@backend.getoutin.co.za
SUMMARY:Le Petit Paris Fundraiser
DESCRIPTION:THE PLAYA NEEDS YOU — AND SO DOES THE CHAMPAGNE \nIn just a few weeks\, we’re bringing back our infamous champagne afternoon parties — and after 9 years of turning the playa into the world’s greatest afternoon dancefloor\, we’re not slowing down. But first\, we need to pre-boogie! \nJoin us for an intimate fundraiser to help us do what we do best: flood the desert with thousands of bottles of champagne and keep you dancing from noon until the stars come out. This year\, we’re also pushing our sound system to a whole new level — and trust us\, you’ll want to be there when it hits. \nCome celebrate\, dance\, and help us make this the most euphoric year yet. \nThursday\, April 23rd – 9PM\nOpium Cape Town — 14 Cobern Street\, De Waterkant \nLINE UP:\nATARAX Live Hybrid (FR)\nKLEM BRÛLÉE (AU)\nGUCCI JAGGER (PT)\nLUCA NOVA (DE)
URL:https://backend.getoutin.co.za/events/le-petit-paris-fundraiser/
LOCATION:Opium Lounge
CATEGORIES:Age Restriction 18+ / 21+,Miscellaneous Cultural,Party - Djs, Clubs, Live Music
ATTACH;FMTTYPE=image/jpeg:https://backend.getoutin.co.za/wp-content/uploads/2025/06/Le-petit-Paris-Afrika-Burn-Fundraiser-scaled.jpg
END:VEVENT
BEGIN:VEVENT
DTSTART;TZID=Africa/Abidjan:20260424T180000
DTEND;TZID=Africa/Abidjan:20260424T180000
DTSTAMP:20260422T153103
CREATED:20260415T150547Z
LAST-MODIFIED:20260415T150547Z
UID:38727-1777053600-1777053600@backend.getoutin.co.za
SUMMARY:Afro Sanctuary
DESCRIPTION:The last time was so much fun we had to run it back!🔥🫶🏾 \nAfro Sanctuary returns with a groovy bounce in the step. Bringing some new sounds and electric energy. A night of good people\, vibes and top tier selection lays ahead. Where rhythm finds refuge. A space where we connect through authentic sound and souls set free. \nWelcome to the Sanctuary. \nLink and lineup dropping soon.\n📍 Deus Kloof Street\n🗓️ 24 April 2026\n⏰ 19:30 – LATE\n🔞 No under 18
URL:https://backend.getoutin.co.za/events/afro-sanctuary/
LOCATION:Deus Ex Machina – Kloof Street\, 18 Kloof St\, Gardens\, Cape Town\, 8001\, Cape Town\, South Africa
CATEGORIES:Age Restriction 18+ / 21+,Amapiano, Hip Hop, Reggae, Afro etc. (Uptempo),Party - Djs, Clubs, Live Music
ATTACH;FMTTYPE=image/jpeg:https://backend.getoutin.co.za/wp-content/uploads/2026/01/Screenshot-2026-04-15-120713-scaled.jpg
END:VEVENT
BEGIN:VEVENT
DTSTART;TZID=Africa/Abidjan:20260424T200000
DTEND;TZID=Africa/Abidjan:20260425T035900
DTSTAMP:20260422T153103
CREATED:20260305T071040Z
LAST-MODIFIED:20260305T071040Z
UID:35537-1777060800-1777089540@backend.getoutin.co.za
SUMMARY:Casa
DESCRIPTION:Casa is a house built on sound\, culture and community. A space where the music feels intentional\, the crowd feels right and the energy carries through the room. \nThis is home.\nSave the date: 24 April 2026 ✨
URL:https://backend.getoutin.co.za/events/casa/
LOCATION:Club Paradise
CATEGORIES:Age Restriction 18+ / 21+,Party - Djs, Clubs, Live Music
ATTACH;FMTTYPE=image/jpeg:https://backend.getoutin.co.za/wp-content/uploads/2024/12/event-image-78-scaled.jpeg
END:VEVENT
BEGIN:VEVENT
DTSTART;TZID=Africa/Abidjan:20260430T160000
DTEND;TZID=Africa/Abidjan:20260501T020000
DTSTAMP:20260422T153103
CREATED:20260416T045603Z
LAST-MODIFIED:20260416T045726Z
UID:38748-1777564800-1777600800@backend.getoutin.co.za
SUMMARY:PALMS
DESCRIPTION:It’s OFFICIAL! Karma launches PALMS at Caprice on the 30th of April! \nENOO NAPA is headlining and we have a surprise act 👀 \nAs you know\, Caprice isn’t very big… Tickets will be limited so make sure to buy *FAST* \nBe There or Be Told….
URL:https://backend.getoutin.co.za/events/palms/
LOCATION:Café Caprice
CATEGORIES:Age Restriction 18+ / 21+,Party - Djs, Clubs, Live Music
ATTACH;FMTTYPE=image/jpeg:https://backend.getoutin.co.za/wp-content/uploads/2025/02/event-image-65-scaled.jpeg
END:VEVENT
BEGIN:VEVENT
DTSTART;TZID=Africa/Abidjan:20260530T183000
DTEND;TZID=Africa/Abidjan:20260531T000000
DTSTAMP:20260422T153103
CREATED:20260419T120325Z
LAST-MODIFIED:20260419T120325Z
UID:38858-1780165800-1780185600@backend.getoutin.co.za
SUMMARY:Throwback Party 30 May 2026
DESCRIPTION:Throwback Party – VINYL Edition. Proudly brought to you by Schweppes and Bilionetworks. \nExperience the nostalgia of DJs playing exclusively VINYL together with a 1st class Audio/Visual experience to take you on a musical journey like no other. \nSecure your access to a fantastic night of Throwback. \nYour DJ LineUp:\nRoger The Dodger\nDJ Aaron\nGrand Master Ready D\nRobin Matthews \nPurchase a batch of 10 tickets or more and stand a chance to win a 4 night stay at Club Mykonos Langebaan\, kindly sponsored by Eugene Avontuur. T&Cs apply. \nWear your Throwback Party teeshirt on the night\, and have it signed by all the DJs\, making YOUR Throwback Party teeshirt a special & unique collectors item. \nNOTE:\nBring your own eats & drinks\nTable bookings are available for 10 tickets purchased\nFor table bookings please email throwbackparty@mweb.co.za or Whatsapp 0829438748
URL:https://backend.getoutin.co.za/events/throwback-party-30-may-2026/
LOCATION:Zwaanswyk Academy Hall\, 338 Main Rd\, Retreat\, Cape Town\, 7945\, Cape Town\, South Africa
CATEGORIES:Age Restriction 18+ / 21+,Party - Djs, Clubs, Live Music
ATTACH;FMTTYPE=image/png:https://backend.getoutin.co.za/wp-content/uploads/2026/01/event-image-56.png
END:VEVENT
END:VCALENDAR