BEGIN:VCALENDAR
VERSION:2.0
PRODID:-//Home - ECPv6.15.18//NONSGML v1.0//EN
CALSCALE:GREGORIAN
METHOD:PUBLISH
X-WR-CALNAME:Home
X-ORIGINAL-URL:https://backend.getoutin.co.za
X-WR-CALDESC:Events for Home
REFRESH-INTERVAL;VALUE=DURATION:PT1H
X-Robots-Tag:noindex
X-PUBLISHED-TTL:PT1H
BEGIN:VTIMEZONE
TZID:Africa/Abidjan
BEGIN:STANDARD
TZOFFSETFROM:+0000
TZOFFSETTO:+0000
TZNAME:GMT
DTSTART:20250101T000000
END:STANDARD
END:VTIMEZONE
BEGIN:VTIMEZONE
TZID:Europe/Helsinki
BEGIN:DAYLIGHT
TZOFFSETFROM:+0200
TZOFFSETTO:+0300
TZNAME:EEST
DTSTART:20250330T010000
END:DAYLIGHT
BEGIN:STANDARD
TZOFFSETFROM:+0300
TZOFFSETTO:+0200
TZNAME:EET
DTSTART:20251026T010000
END:STANDARD
BEGIN:DAYLIGHT
TZOFFSETFROM:+0200
TZOFFSETTO:+0300
TZNAME:EEST
DTSTART:20260329T010000
END:DAYLIGHT
BEGIN:STANDARD
TZOFFSETFROM:+0300
TZOFFSETTO:+0200
TZNAME:EET
DTSTART:20261025T010000
END:STANDARD
BEGIN:DAYLIGHT
TZOFFSETFROM:+0200
TZOFFSETTO:+0300
TZNAME:EEST
DTSTART:20270328T010000
END:DAYLIGHT
BEGIN:STANDARD
TZOFFSETFROM:+0300
TZOFFSETTO:+0200
TZNAME:EET
DTSTART:20271031T010000
END:STANDARD
END:VTIMEZONE
BEGIN:VEVENT
DTSTART;TZID=Africa/Abidjan:20260424T200000
DTEND;TZID=Africa/Abidjan:20260425T035900
DTSTAMP:20260421T022858
CREATED:20260305T071040Z
LAST-MODIFIED:20260305T071040Z
UID:35537-1777060800-1777089540@backend.getoutin.co.za
SUMMARY:Casa
DESCRIPTION:Casa is a house built on sound\, culture and community. A space where the music feels intentional\, the crowd feels right and the energy carries through the room. \nThis is home.\nSave the date: 24 April 2026 ✨
URL:https://backend.getoutin.co.za/events/casa/
LOCATION:Club Paradise
CATEGORIES:Age Restriction 18+ / 21+,Party - Djs, Clubs, Live Music
ATTACH;FMTTYPE=image/jpeg:https://backend.getoutin.co.za/wp-content/uploads/2024/12/event-image-78-scaled.jpeg
END:VEVENT
BEGIN:VEVENT
DTSTART;TZID=Europe/Helsinki:20260427T100000
DTEND;TZID=Europe/Helsinki:20260503T230000
DTSTAMP:20260421T022858
CREATED:20250923T153017Z
LAST-MODIFIED:20250923T154613Z
UID:19136-1777284000-1777849200@backend.getoutin.co.za
SUMMARY:Afrika Burn 2026
DESCRIPTION:AfrikaBurn 2026\nThrough The Prism\nWhether you’ve attended AfrikaBurn before or not\, all you need to know about making your experience incredible is located (on the homepage\, edit by poster)\, from what it’s all about\, the theme for this year\, to how to get Tickets and where to find the Survival Guide Quaggapedia. Whatever you do at AfrikaBurn\, it’s all about Participation. \n———————–\nNote\, ticket link not yet open\, weblink now points to AB homepage
URL:https://backend.getoutin.co.za/events/afrika-burn-2025-out-of-the-blue-copy/
LOCATION:AfrikaBurn Tankwa Town
CATEGORIES:Festivals,Kids / Teenagers,Miscellaneous Cultural,Party - Djs, Clubs, Live Music,Theatre / Dancing / Performance,Whole Family Fun
ATTACH;FMTTYPE=image/jpeg:https://backend.getoutin.co.za/wp-content/uploads/2025/09/Afrika-Burn-2026-Through-the-prism.jpg
END:VEVENT
BEGIN:VEVENT
DTSTART;TZID=Africa/Abidjan:20260430T180000
DTEND;TZID=Africa/Abidjan:20260430T210000
DTSTAMP:20260421T022858
CREATED:20260420T220452Z
LAST-MODIFIED:20260420T220452Z
UID:39006-1777572000-1777582800@backend.getoutin.co.za
SUMMARY:Purple Tent Samhain Celebration
DESCRIPTION:Join us for a special journey beyond the veil of our beings\, as the earth turns toward midwinter. We will be supported by our trusted plant allies Ixcacao and Blue Lotus. \nWe will start our journey with a guided labyrinth walk meditation to clear our chakras. In the centre of the Labyrinth\, we will integrate insights from the void with creative process. This will be followed with a gentle sound journey from the centre of the labyrinth back into the world. \nThere will be time for connection\, sharing and most importantly food! \nCheck out the purple tent on Insta/TT and FB to find out more about how we celebrate queerness as an integral part of our spiritual journeys 🙂
URL:https://backend.getoutin.co.za/events/purple-tent-samhain-celebration/
LOCATION:Risi road\, Risi Rd\, Fish Hoek\, Cape Town\, South Africa
CATEGORIES:Lifestyle / Wellness,Whole Family Fun
ATTACH;FMTTYPE=image/jpeg:https://backend.getoutin.co.za/wp-content/uploads/2026/04/event-image-44-scaled.jpeg
END:VEVENT
END:VCALENDAR