BEGIN:VCALENDAR
VERSION:2.0
PRODID:-//Home - ECPv6.15.18//NONSGML v1.0//EN
CALSCALE:GREGORIAN
METHOD:PUBLISH
X-ORIGINAL-URL:https://backend.getoutin.co.za
X-WR-CALDESC:Events for Home
REFRESH-INTERVAL;VALUE=DURATION:PT1H
X-Robots-Tag:noindex
X-PUBLISHED-TTL:PT1H
BEGIN:VTIMEZONE
TZID:Africa/Abidjan
BEGIN:STANDARD
TZOFFSETFROM:+0000
TZOFFSETTO:+0000
TZNAME:GMT
DTSTART:20250101T000000
END:STANDARD
END:VTIMEZONE
BEGIN:VEVENT
DTSTART;TZID=Africa/Abidjan:20260405T120000
DTEND;TZID=Africa/Abidjan:20260405T160000
DTSTAMP:20260422T030127
CREATED:20260401T185806Z
LAST-MODIFIED:20260401T185806Z
UID:37737-1775390400-1775404800@backend.getoutin.co.za
SUMMARY:Hop Into Easter @ The Lawns
DESCRIPTION:This Easter\, we’re keeping it simple\, sweet\, and full of family fun! \nWhile we’re skipping the traditional egg hunt\, we’ve created the ultimate Easter experience for little ones — packed with treats\, activities\, and all the festive vibes. Our curated Easter kids’ package is designed to make the day magical from start to finish. Each child will receive a special Easter bag filled with bunny ears\, stickers\, pens and pencils\, colouring sheets\, a pocket hug\, marshmallow eggs\, and a fun Easter egg scratch card surprise. And that’s just the beginning… \nYour ticket also includes all the kiddie favourites — pizza\, popcorn\, ice cream\, and a refreshing slushie to keep the smiles going all afternoon. Of course\, it wouldn’t be Easter without adorable photo moments\, plenty of chocolate eggs\, face painting\, balloon artists and a vibrant atmosphere perfect for families to relax and celebrate together. Think sunshine\, laughter\, sweet treats\, and wholesome Easter vibes all around. It’s an easy\, stress-free way to treat the kids while parents sit back and enjoy the beautiful setting. \nA joyful\, value-packed Easter celebration — made simple\, made fun\, and made for memories!
URL:https://backend.getoutin.co.za/events/hop-into-easter-the-lawns/
LOCATION:The Lawns at the Roundhouse
CATEGORIES:Kids / Teenagers,Whole Family Fun
ATTACH;FMTTYPE=image/jpeg:https://backend.getoutin.co.za/wp-content/uploads/2024/12/event-image-124.jpeg
END:VEVENT
END:VCALENDAR