BEGIN:VCALENDAR
VERSION:2.0
PRODID:-//Home - ECPv6.15.18//NONSGML v1.0//EN
CALSCALE:GREGORIAN
METHOD:PUBLISH
X-ORIGINAL-URL:https://backend.getoutin.co.za
X-WR-CALDESC:Events for Home
REFRESH-INTERVAL;VALUE=DURATION:PT1H
X-Robots-Tag:noindex
X-PUBLISHED-TTL:PT1H
BEGIN:VTIMEZONE
TZID:Africa/Abidjan
BEGIN:STANDARD
TZOFFSETFROM:+0000
TZOFFSETTO:+0000
TZNAME:GMT
DTSTART:20250101T000000
END:STANDARD
END:VTIMEZONE
BEGIN:VEVENT
DTSTART;TZID=Africa/Abidjan:20260403T110000
DTEND;TZID=Africa/Abidjan:20260403T180000
DTSTAMP:20260422T030123
CREATED:20260401T125237Z
LAST-MODIFIED:20260401T125237Z
UID:37594-1775214000-1775239200@backend.getoutin.co.za
SUMMARY:Easter Egg Hunt Family Day
DESCRIPTION:Join Mini & Me Parties & Events on 3 April for a fun-filled family day at Cafe Mambo\, Bottelary Road\, Cape Winelands! \nEvent highlights:\n– Easter Egg Hunt\n– Meet & Greet with the Easter Bunny\n– Cookie Decorating\n– Picnic Area & Swimming Pool\n– Bouncy Castles & Water Slides\n– Games & Prizes\n– Food Stalls\n– Kiddies Rides\n– Soft Play\n– Arts and Crafts Stations\n– Live Music\n– Braai stands \nPricing:\n– Kids: R180 (party pack included)\n– Adults: R80 \nFor more information\, contact 084 658 0629.
URL:https://backend.getoutin.co.za/events/easter-egg-hunt-family-day/
LOCATION:Cafe Mambo\, Lyncroft Estate\, Bottelary Rd\, Kuilsriver\, Cape Town\, 7570\, Cape Town\, South Africa
CATEGORIES:Kids / Teenagers,Whole Family Fun
ATTACH;FMTTYPE=image/jpeg:https://backend.getoutin.co.za/wp-content/uploads/2026/01/event-image-82.jpeg
END:VEVENT
END:VCALENDAR