BEGIN:VCALENDAR
VERSION:2.0
PRODID:-//Home - ECPv6.15.18//NONSGML v1.0//EN
CALSCALE:GREGORIAN
METHOD:PUBLISH
X-ORIGINAL-URL:https://backend.getoutin.co.za
X-WR-CALDESC:Events for Home
REFRESH-INTERVAL;VALUE=DURATION:PT1H
X-Robots-Tag:noindex
X-PUBLISHED-TTL:PT1H
BEGIN:VTIMEZONE
TZID:Europe/Helsinki
BEGIN:DAYLIGHT
TZOFFSETFROM:+0200
TZOFFSETTO:+0300
TZNAME:EEST
DTSTART:20250330T010000
END:DAYLIGHT
BEGIN:STANDARD
TZOFFSETFROM:+0300
TZOFFSETTO:+0200
TZNAME:EET
DTSTART:20251026T010000
END:STANDARD
BEGIN:DAYLIGHT
TZOFFSETFROM:+0200
TZOFFSETTO:+0300
TZNAME:EEST
DTSTART:20260329T010000
END:DAYLIGHT
BEGIN:STANDARD
TZOFFSETFROM:+0300
TZOFFSETTO:+0200
TZNAME:EET
DTSTART:20261025T010000
END:STANDARD
BEGIN:DAYLIGHT
TZOFFSETFROM:+0200
TZOFFSETTO:+0300
TZNAME:EEST
DTSTART:20270328T010000
END:DAYLIGHT
BEGIN:STANDARD
TZOFFSETFROM:+0300
TZOFFSETTO:+0200
TZNAME:EET
DTSTART:20271031T010000
END:STANDARD
END:VTIMEZONE
BEGIN:VEVENT
DTSTART;TZID=Europe/Helsinki:20260426T090000
DTEND;TZID=Europe/Helsinki:20260426T160000
DTSTAMP:20260422T131328
CREATED:20260219T082659Z
LAST-MODIFIED:20260219T082826Z
UID:34540-1777194000-1777219200@backend.getoutin.co.za
SUMMARY:Sunday Slow Market
DESCRIPTION:Join us at the Sunday Slow Market from 9AM to 4PM at Central Park\, Energy Lane. \nEnjoy delicious street food\, fine drinks\, browse locally made crafts\, and soak in the atmosphere with live music by local artists. \nConvenient parking is available.
URL:https://backend.getoutin.co.za/events/sunday-slow-market/
LOCATION:Central Park
CATEGORIES:Food / Drinks Events,Markets (Street / Food / Flea),Whole Family Fun
END:VEVENT
END:VCALENDAR