BEGIN:VCALENDAR
VERSION:2.0
PRODID:-//Home - ECPv6.15.18//NONSGML v1.0//EN
CALSCALE:GREGORIAN
METHOD:PUBLISH
X-WR-CALNAME:Home
X-ORIGINAL-URL:https://backend.getoutin.co.za
X-WR-CALDESC:Events for Home
REFRESH-INTERVAL;VALUE=DURATION:PT1H
X-Robots-Tag:noindex
X-PUBLISHED-TTL:PT1H
BEGIN:VTIMEZONE
TZID:Africa/Abidjan
BEGIN:STANDARD
TZOFFSETFROM:+0000
TZOFFSETTO:+0000
TZNAME:GMT
DTSTART:20250101T000000
END:STANDARD
END:VTIMEZONE
BEGIN:VEVENT
DTSTART;TZID=Africa/Abidjan:20260415T080000
DTEND;TZID=Africa/Abidjan:20260417T100000
DTSTAMP:20260423T014549
CREATED:20260413T084451Z
LAST-MODIFIED:20260413T084451Z
UID:38397-1776240000-1776420000@backend.getoutin.co.za
SUMMARY:South African Startup Week | Cape Town
DESCRIPTION:Introducing the inaugural South African Startup Week (Cape Town Edition). \nNot another conference. A founder-first\, city-wide\, landmark gathering of the people building and backing South Africa’s most ambitious tech startups and scale-ups. \nA three-day event series built for current (and would-be) South African tech founders – each designed to stack on the previous: from inspiration\, to execution\, to meaningful connection. \nDay 1 – INSPIRE (Wednesday\, 15 April)\nFounder keynotes and candid conversations. Big stories. Honest lessons from real builders. \nDay 2 – BUILD (Thursday\, 16 April)\nHands-on workshops\, hackathons and masterclasses across product\, marketing\, sales\, finance and go-to-market. Practical sessions designed for operators in the trenches. \nDay 3 – CONNECT (Friday\, 17 April)\nRun Club\, coffee meetups\, investor engagement\, ecosystem conversations and curated networking. Because relationships are the real long-term capital. \nThe inaugural edition has been designed hand-in-hand with the local founder ecosystem – and is hosted in collaboration with more than 25+ ecosystem partners. So whether you’re raising\, shipping\, hiring\, validating\, pivoting\, or preparing to launch – this week is for you. \nAcross three days\, expect:\n• Keynotes\n• Firesides\n• Workshops\n• Masterclasses\n• Hackathon Streams (x4)\n• Curated networking\n• Ecosystem meetups\n• Investor engagement \nWho should attend?\n• Founders (pre-seed to scale)\n• Startup operators\n• Investors & VCs\n• Corporate innovation teams\n• Builders\, enablers & ecosystem leaders\n• Talent looking to join high-growth companies \nJoin the people building what’s next and secure your ticket for South African Startup Week 2026.
URL:https://backend.getoutin.co.za/events/south-african-startup-week-cape-town/
LOCATION:Makers Landing
CATEGORIES:Miscellaneous Cultural,Whole Family Fun
ATTACH;FMTTYPE=image/png:https://backend.getoutin.co.za/wp-content/uploads/2025/12/event-image-156.png
END:VEVENT
END:VCALENDAR