BEGIN:VCALENDAR
VERSION:2.0
PRODID:-//Home - ECPv6.15.18//NONSGML v1.0//EN
CALSCALE:GREGORIAN
METHOD:PUBLISH
X-ORIGINAL-URL:https://backend.getoutin.co.za
X-WR-CALDESC:Events for Home
REFRESH-INTERVAL;VALUE=DURATION:PT1H
X-Robots-Tag:noindex
X-PUBLISHED-TTL:PT1H
BEGIN:VTIMEZONE
TZID:Africa/Abidjan
BEGIN:STANDARD
TZOFFSETFROM:+0000
TZOFFSETTO:+0000
TZNAME:GMT
DTSTART:20250101T000000
END:STANDARD
END:VTIMEZONE
BEGIN:VEVENT
DTSTART;TZID=Africa/Abidjan:20260502T140000
DTEND;TZID=Africa/Abidjan:20260502T190000
DTSTAMP:20260422T190001
CREATED:20260415T055315Z
LAST-MODIFIED:20260415T070603Z
UID:38592-1777730400-1777748400@backend.getoutin.co.za
SUMMARY:Shamrock420 Edibles Tasting Experience
DESCRIPTION:Join us every Saturday at Shamrock420 Boutique Lounge for a delicious Edibles Tasting Experience. \nFor R250 per person\, guests will enjoy 5 different edibles\, juice\, a bottle of water\, and light snacks for the munchies in a relaxed\, premium lounge setting. \nHeld from 2pm to 7pm at 143 Lower Main Road\, Observatory\, this is the perfect way to explore a variety of treats in a stylish and welcoming space. \nTickets must be pre-purchased.
URL:https://backend.getoutin.co.za/events/shamrock420-edibles-tasting-experience-3/
LOCATION:Shamrock420 Boutique Lounge\, 143 Lower Main Rd\, Observatory\, Cape Town\, 7925\, South Africa\, Cape Town\, South Africa
CATEGORIES:Age Restriction 18+ / 21+,Lifestyle / Wellness
ATTACH;FMTTYPE=image/jpeg:https://backend.getoutin.co.za/wp-content/uploads/2026/04/event-image-30.jpeg
END:VEVENT
END:VCALENDAR