BEGIN:VCALENDAR
VERSION:2.0
PRODID:-//Home - ECPv6.15.18//NONSGML v1.0//EN
CALSCALE:GREGORIAN
METHOD:PUBLISH
X-WR-CALNAME:Home
X-ORIGINAL-URL:https://backend.getoutin.co.za
X-WR-CALDESC:Events for Home
REFRESH-INTERVAL;VALUE=DURATION:PT1H
X-Robots-Tag:noindex
X-PUBLISHED-TTL:PT1H
BEGIN:VTIMEZONE
TZID:Africa/Abidjan
BEGIN:STANDARD
TZOFFSETFROM:+0000
TZOFFSETTO:+0000
TZNAME:GMT
DTSTART:20250101T000000
END:STANDARD
END:VTIMEZONE
BEGIN:VEVENT
DTSTART;TZID=Africa/Abidjan:20260401T090000
DTEND;TZID=Africa/Abidjan:20260401T163000
DTSTAMP:20260422T223637
CREATED:20260314T211835Z
LAST-MODIFIED:20260314T211835Z
UID:36366-1775034000-1775061000@backend.getoutin.co.za
SUMMARY:TechCon
DESCRIPTION:TechCon is a multi-platform technology conference that brings together top tech minds\, government\, decision-makers\, and disruptors to explore the transformative power of technology.
URL:https://backend.getoutin.co.za/events/techcon/
LOCATION:Century City Conference Centre\, 4 Energy Ln\, Century City\, Cape Town\, 7446\, Cape Town\, South Africa
CATEGORIES:Miscellaneous Cultural
ATTACH;FMTTYPE=image/jpeg:https://backend.getoutin.co.za/wp-content/uploads/2026/03/event-image-36-scaled.jpeg
END:VEVENT
END:VCALENDAR