BEGIN:VCALENDAR
VERSION:2.0
PRODID:-//Home - ECPv6.15.18//NONSGML v1.0//EN
CALSCALE:GREGORIAN
METHOD:PUBLISH
X-WR-CALNAME:Home
X-ORIGINAL-URL:https://backend.getoutin.co.za
X-WR-CALDESC:Events for Home
REFRESH-INTERVAL;VALUE=DURATION:PT1H
X-Robots-Tag:noindex
X-PUBLISHED-TTL:PT1H
BEGIN:VTIMEZONE
TZID:Africa/Abidjan
BEGIN:STANDARD
TZOFFSETFROM:+0000
TZOFFSETTO:+0000
TZNAME:GMT
DTSTART:20250101T000000
END:STANDARD
END:VTIMEZONE
BEGIN:VEVENT
DTSTART;TZID=Africa/Abidjan:20260313T090000
DTEND;TZID=Africa/Abidjan:20260315T200000
DTSTAMP:20260422T142855
CREATED:20260312T151735Z
LAST-MODIFIED:20260312T151735Z
UID:36111-1773392400-1773604800@backend.getoutin.co.za
SUMMARY:Books on the Bay Festival 2026
DESCRIPTION:Books on the Bay is an annual literary event that celebrates the love of reading and storytelling. The festival brings together authors\, illustrators\, and book enthusiasts for engaging discussions\, book signings\, and interactive sessions. \nSet against the beautiful backdrop of the bay\, this event offers a unique opportunity to connect with the literary community and explore the world of books in a stunning outdoor setting.
URL:https://backend.getoutin.co.za/events/books-on-the-bay-festival-2026/
LOCATION:Dockyard Chapel\, Simon's Town\, Cape Town\, 7995\, Cape Town\, South Africa
CATEGORIES:Festivals,Kids / Teenagers,Lifestyle / Wellness,Miscellaneous Cultural,Whole Family Fun
ATTACH;FMTTYPE=image/jpeg:https://backend.getoutin.co.za/wp-content/uploads/2026/03/event-image-23-scaled.jpeg
END:VEVENT
END:VCALENDAR