BEGIN:VCALENDAR
VERSION:2.0
PRODID:-//Home - ECPv6.15.18//NONSGML v1.0//EN
CALSCALE:GREGORIAN
METHOD:PUBLISH
X-ORIGINAL-URL:https://backend.getoutin.co.za
X-WR-CALDESC:Events for Home
REFRESH-INTERVAL;VALUE=DURATION:PT1H
X-Robots-Tag:noindex
X-PUBLISHED-TTL:PT1H
BEGIN:VTIMEZONE
TZID:Africa/Abidjan
BEGIN:STANDARD
TZOFFSETFROM:+0000
TZOFFSETTO:+0000
TZNAME:GMT
DTSTART:20250101T000000
END:STANDARD
END:VTIMEZONE
BEGIN:VEVENT
DTSTART;TZID=Africa/Abidjan:20260430T140000
DTEND;TZID=Africa/Abidjan:20260430T235900
DTSTAMP:20260422T124553
CREATED:20260419T114320Z
LAST-MODIFIED:20260419T114320Z
UID:38883-1777557600-1777593540@backend.getoutin.co.za
SUMMARY:Witty Women Writers’ Resilience
DESCRIPTION:In collaboration with Kwela\, Nadia Cassim\, Lebo Mazibuko\, Qaanitah Hunter\, and Angela Briggs explore how women writers transform difficult themes into compelling\, fresh\, and hopeful stories. \nHow do these writers hold out for love when faced with pain? How do they rise with pride when trauma pulls them down? This panel discussion delves into the resilience of women writers as they tackle challenging topics in their work. \nDuration: 60 minutes\nAge Restriction: All Ages\nLanguage: English
URL:https://backend.getoutin.co.za/events/witty-women-writers-resilience/
LOCATION:Artscape
CATEGORIES:Miscellaneous Cultural,Theatre / Dancing / Performance,Whole Family Fun
ATTACH;FMTTYPE=image/jpeg:https://backend.getoutin.co.za/wp-content/uploads/2024/12/event-image-151-scaled.jpeg
END:VEVENT
END:VCALENDAR