BEGIN:VCALENDAR
VERSION:2.0
PRODID:-//Home - ECPv6.15.18//NONSGML v1.0//EN
CALSCALE:GREGORIAN
METHOD:PUBLISH
X-ORIGINAL-URL:https://backend.getoutin.co.za
X-WR-CALDESC:Events for Home
REFRESH-INTERVAL;VALUE=DURATION:PT1H
X-Robots-Tag:noindex
X-PUBLISHED-TTL:PT1H
BEGIN:VTIMEZONE
TZID:Africa/Abidjan
BEGIN:STANDARD
TZOFFSETFROM:+0000
TZOFFSETTO:+0000
TZNAME:GMT
DTSTART:20250101T000000
END:STANDARD
END:VTIMEZONE
BEGIN:VEVENT
DTSTART;TZID=Africa/Abidjan:20260411T130000
DTEND;TZID=Africa/Abidjan:20260412T170000
DTSTAMP:20260421T124544
CREATED:20260408T105119Z
LAST-MODIFIED:20260408T105119Z
UID:38148-1775912400-1776013200@backend.getoutin.co.za
SUMMARY:Mini Cocktail Flight Festival
DESCRIPTION:Come enjoy cocktail flights (mini cocktails) and gourmet shooters at our Mini Cocktail Flight Festival! Stroll through our different cocktail tables and sample tasty libations\, held every year at CAUSE | EFFECT Cocktail Kitchen & Restaurant. \nTicket includes 6 cocktail flights + 2 gourmet shooters.\nLunch/Dinner menus available – full menu available on www.causeandeffect.co.za\nLimited tickets available at R299 per ticket.
URL:https://backend.getoutin.co.za/events/mini-cocktail-flight-festival/
LOCATION:CAUSE | EFFECT Cocktail Kitchen & Restaurant\, 280 Dock Rd\, Victoria & Alfred Waterfront\, Cape Town\, 8001\, Cape Town\, South Africa
CATEGORIES:Age Restriction 18+ / 21+,Festivals,Food / Drinks Events
ATTACH;FMTTYPE=image/jpeg:https://backend.getoutin.co.za/wp-content/uploads/2026/04/event-image-19.jpeg
END:VEVENT
END:VCALENDAR