BEGIN:VCALENDAR
VERSION:2.0
PRODID:-//Home - ECPv6.15.18//NONSGML v1.0//EN
CALSCALE:GREGORIAN
METHOD:PUBLISH
X-ORIGINAL-URL:https://backend.getoutin.co.za
X-WR-CALDESC:Events for Home
REFRESH-INTERVAL;VALUE=DURATION:PT1H
X-Robots-Tag:noindex
X-PUBLISHED-TTL:PT1H
BEGIN:VTIMEZONE
TZID:Africa/Abidjan
BEGIN:STANDARD
TZOFFSETFROM:+0000
TZOFFSETTO:+0000
TZNAME:GMT
DTSTART:20250101T000000
END:STANDARD
END:VTIMEZONE
BEGIN:VEVENT
DTSTART;TZID=Africa/Abidjan:20260502T183000
DTEND;TZID=Africa/Abidjan:20260502T235900
DTSTAMP:20260421T175817
CREATED:20260410T073703Z
LAST-MODIFIED:20260410T073703Z
UID:38266-1777746600-1777766340@backend.getoutin.co.za
SUMMARY:Hettema ontbloot: digters\, divas en ’n titsel Parys
DESCRIPTION:Moontlik gemaak deur die Johann Brink Trust | Made possible by the Johann Brink Trust \nMET | WITH Helena Hettema \n’n Sielvolle kragtoer waarin die enigmatiese Helena Hettema haarself en haar kuns opreg aan feesgangers blootlê. Met voordragte uit haar bekroonde debuut-digbundel Journeyman neem sy gehore op ’n emosionele reis deur universele temas soos ontwaking\, liefde\, verlies\, dood en uitgeworpenes\, verweef met skerp sosiale kommentaar. Sy laat ikoniese digters soos N.P. van Wyk Louw en Antjie Krog musikaal opklink\, terwyl sy hulde bring aan tydlose divas soos Marlene Dietrich\, Shirley Bassey\, Judy Garland en Edith Piaf. Dis teater\, poësie en musiek in een betowerende ervaring. \nA soulful tour de force in which the enigmatic Helena Hettema lays bare her soul and her art for festivalgoers. With recitals from her acclaimed debut poetry collection Journeyman\, she takes audiences on an emotional journey through universal themes such as awakening\, love\, loss\, death and outcasts\, woven together with sharp social commentary. She brings iconic poets like N.P. van Wyk Louw and Antjie Krog musically to life\, while paying tribute to timeless divas such as Marlene Dietrich\, Shirley Bassey\, Judy Garland and Edith Piaf. It’s theatre\, poetry and music combined in one enchanting experience. \nDuration: 70min\nAge Restriction: None\nLanguage: English\, Afrikaans\, French
URL:https://backend.getoutin.co.za/events/hettema-ontbloot-digters-divas-en-n-titsel-parys/
LOCATION:Cape Town Civic Centre\, 12 Hertzog Blvd\, Foreshore\, Cape Town\, 8001\, Cape Town\, South Africa
CATEGORIES:Kids / Teenagers,Live Music - Classical,Miscellaneous Cultural,Theatre / Dancing / Performance,Whole Family Fun
ATTACH;FMTTYPE=image/jpeg:https://backend.getoutin.co.za/wp-content/uploads/2026/03/event-image-90-scaled.jpeg
END:VEVENT
END:VCALENDAR